BEGIN:VCALENDAR
VERSION:2.0
PRODID:-//Special Olympics Kentucky - ECPv6.15.20//NONSGML v1.0//EN
CALSCALE:GREGORIAN
METHOD:PUBLISH
X-WR-CALNAME:Special Olympics Kentucky
X-ORIGINAL-URL:https://soky.org
X-WR-CALDESC:Events for Special Olympics Kentucky
REFRESH-INTERVAL;VALUE=DURATION:PT1H
X-Robots-Tag:noindex
X-PUBLISHED-TTL:PT1H
BEGIN:VTIMEZONE
TZID:America/New_York
BEGIN:DAYLIGHT
TZOFFSETFROM:-0500
TZOFFSETTO:-0400
TZNAME:EDT
DTSTART:20220313T070000
END:DAYLIGHT
BEGIN:STANDARD
TZOFFSETFROM:-0400
TZOFFSETTO:-0500
TZNAME:EST
DTSTART:20221106T060000
END:STANDARD
BEGIN:DAYLIGHT
TZOFFSETFROM:-0500
TZOFFSETTO:-0400
TZNAME:EDT
DTSTART:20230312T070000
END:DAYLIGHT
BEGIN:STANDARD
TZOFFSETFROM:-0400
TZOFFSETTO:-0500
TZNAME:EST
DTSTART:20231105T060000
END:STANDARD
BEGIN:DAYLIGHT
TZOFFSETFROM:-0500
TZOFFSETTO:-0400
TZNAME:EDT
DTSTART:20240310T070000
END:DAYLIGHT
BEGIN:STANDARD
TZOFFSETFROM:-0400
TZOFFSETTO:-0500
TZNAME:EST
DTSTART:20241103T060000
END:STANDARD
END:VTIMEZONE
BEGIN:VEVENT
DTSTART;TZID=America/New_York:20230513T090000
DTEND;TZID=America/New_York:20230513T150000
DTSTAMP:20260422T175236
CREATED:20230307T212813Z
LAST-MODIFIED:20230511T193035Z
UID:12973-1683968400-1683990000@soky.org
SUMMARY:2023 Area 4 Track and Field Meet
DESCRIPTION:Athletes from throughout the Greater Louisville area will be competing at Mercy Academy in order to qualify for the State Summer Games.
URL:https://soky.org/event/2023-area-4-track-and-field-meet/
LOCATION:Mercy Academy\, 5801 Fegenbush Ln\, Louisville\, KY\, 40228\, United States
CATEGORIES:Competition
ATTACH;FMTTYPE=image/jpeg:https://soky.org/wp-content/uploads/2023/03/23_a5track_event.jpg
ORGANIZER;CN="Kim Satterwhite":MAILTO:ksatterwhite@soky.org
END:VEVENT
BEGIN:VEVENT
DTSTART;TZID=America/New_York:20230519T170000
DTEND;TZID=America/New_York:20230520T080000
DTSTAMP:20260422T175236
CREATED:20230307T213155Z
LAST-MODIFIED:20230503T180217Z
UID:12709-1684515600-1684569600@soky.org
SUMMARY:Brad Harkleroad Memorial State Swim Meet
DESCRIPTION:Due to construction at Eastern Kentucky University\, the State Swim Meet will be held as a stand-alone event for the first-time in many years. The meet is named in memory of longtime Special Olympics Kentucky swimmer — and two-time World Games participant — Brad Harkleroad of the Louisville Stingrays who passed away last summer. \nThe Meet will be a two-day event with relays and developmental events held on Friday\, May 19\, and all individual short course events held on Saturday\, May 20. \nAthletes qualified for the meet by competing in two of four qualifying swim meets — Northern Kentucky\, Asbury\, Falling Springs and Owensboro. \nFriday\, May 19 – Relays and Developmental events \nFriday\, May 20 – Individual Short Course events.
URL:https://soky.org/event/brad-harkleroad-memorial-state-swim-meet/
LOCATION:Ralph Wright Natatorium\, 2216 S Floyd St\, Louisville\, KY\, 40208\, United States
CATEGORIES:Competition
ATTACH;FMTTYPE=image/jpeg:https://soky.org/wp-content/uploads/2023/03/23_stateswin_event.jpg
ORGANIZER;CN="Kathy Marshall":MAILTO:kmarshall@soky.org
END:VEVENT
END:VCALENDAR