BEGIN:VCALENDAR
VERSION:2.0
PRODID:-//Special Olympics Kentucky - ECPv6.15.20//NONSGML v1.0//EN
CALSCALE:GREGORIAN
METHOD:PUBLISH
X-WR-CALNAME:Special Olympics Kentucky
X-ORIGINAL-URL:https://soky.org
X-WR-CALDESC:Events for Special Olympics Kentucky
REFRESH-INTERVAL;VALUE=DURATION:PT1H
X-Robots-Tag:noindex
X-PUBLISHED-TTL:PT1H
BEGIN:VTIMEZONE
TZID:America/New_York
BEGIN:DAYLIGHT
TZOFFSETFROM:-0500
TZOFFSETTO:-0400
TZNAME:EDT
DTSTART:20220313T070000
END:DAYLIGHT
BEGIN:STANDARD
TZOFFSETFROM:-0400
TZOFFSETTO:-0500
TZNAME:EST
DTSTART:20221106T060000
END:STANDARD
BEGIN:DAYLIGHT
TZOFFSETFROM:-0500
TZOFFSETTO:-0400
TZNAME:EDT
DTSTART:20230312T070000
END:DAYLIGHT
BEGIN:STANDARD
TZOFFSETFROM:-0400
TZOFFSETTO:-0500
TZNAME:EST
DTSTART:20231105T060000
END:STANDARD
BEGIN:DAYLIGHT
TZOFFSETFROM:-0500
TZOFFSETTO:-0400
TZNAME:EDT
DTSTART:20240310T070000
END:DAYLIGHT
BEGIN:STANDARD
TZOFFSETFROM:-0400
TZOFFSETTO:-0500
TZNAME:EST
DTSTART:20241103T060000
END:STANDARD
END:VTIMEZONE
BEGIN:VEVENT
DTSTART;TZID=America/New_York:20230711T173000
DTEND;TZID=America/New_York:20230711T213000
DTSTAMP:20260422T142213
CREATED:20230625T221443Z
LAST-MODIFIED:20230625T221443Z
UID:13106-1689096600-1689111000@soky.org
SUMMARY:2023 Louisville Softball League Opens
DESCRIPTION:Softball teams from Louisville and surrounding areas compete to get ready for the 2023 Regional and State Softball Tournaments.
URL:https://soky.org/event/23_louisvillesbleague/
LOCATION:Lyndon Recreation Center\, 9310 Whipps Mill Rd\, Louuisville\, KY\, 40242\, United States
CATEGORIES:Competition
ATTACH;FMTTYPE=image/jpeg:https://soky.org/wp-content/uploads/2021/08/21_SoftballEvent.jpg
ORGANIZER;CN="Holly Vincent":MAILTO:hvincent@soky.org
END:VEVENT
BEGIN:VEVENT
DTSTART;TZID=America/New_York:20230712T173000
DTEND;TZID=America/New_York:20230712T210000
DTSTAMP:20260422T142213
CREATED:20230625T222051Z
LAST-MODIFIED:20230625T222051Z
UID:13109-1689183000-1689195600@soky.org
SUMMARY:2023 Georgetown Softball League Opens
DESCRIPTION:Softball teams from Central Kentucky and the surrounding communities compete to get ready for the Regional and State Softball Tournaments.
URL:https://soky.org/event/23_gtownsbleague/
LOCATION:Marshall Park\, 101 Airport Rd.\, Georgetown\, KY\, 40324\, United States
CATEGORIES:Competition
ATTACH;FMTTYPE=image/jpeg:https://soky.org/wp-content/uploads/2021/08/21_SoftballEvent.jpg
ORGANIZER;CN="Holly Vincent":MAILTO:hvincent@soky.org
END:VEVENT
BEGIN:VEVENT
DTSTART;TZID=America/New_York:20230716T150000
DTEND;TZID=America/New_York:20230716T193000
DTSTAMP:20260422T142213
CREATED:20230625T223107Z
LAST-MODIFIED:20230626T000846Z
UID:13111-1689519600-1689535800@soky.org
SUMMARY:2023 Northern Kentucky Regional Golf Tournament
DESCRIPTION:Golfers compete on the Pioneer Course at Kenton County Golf Course in order to qualify for the State Golf Tournament. \nVolunteer
URL:https://soky.org/event/23_nkygolfregional/
LOCATION:The Golf Courses of Kenton County\, 3908 Richardson Rd.\, Independence\, KY\, 41051\, United States
CATEGORIES:Competition
ATTACH;FMTTYPE=image/jpeg:https://soky.org/wp-content/uploads/2022/04/22_GolfEvents.jpg
ORGANIZER;CN="Kathy Marshall":MAILTO:kmarshall@soky.org
END:VEVENT
BEGIN:VEVENT
DTSTART;TZID=America/New_York:20230722T140000
DTEND;TZID=America/New_York:20230722T180000
DTSTAMP:20260422T142213
CREATED:20230625T235933Z
LAST-MODIFIED:20230625T235933Z
UID:13135-1690034400-1690048800@soky.org
SUMMARY:2023 Western Kentucky Regional Golf Tournament
DESCRIPTION:Golfers will compete at Miller Memorial Golf Course in Murray to qualify for the State Golf Tournament.
URL:https://soky.org/event/23_wkyregionalgolf/
LOCATION:Miller Memorial Golf Course\, 2814 Pottertown Rd\, Murray\, KY\, 42071\, United States
CATEGORIES:Competition
ATTACH;FMTTYPE=image/jpeg:https://soky.org/wp-content/uploads/2023/06/23_wkygolf_event.jpg
ORGANIZER;CN="Kathy Marshall":MAILTO:kmarshall@soky.org
END:VEVENT
END:VCALENDAR