BEGIN:VCALENDAR
VERSION:2.0
PRODID:-//Special Olympics Kentucky - ECPv6.15.20//NONSGML v1.0//EN
CALSCALE:GREGORIAN
METHOD:PUBLISH
X-ORIGINAL-URL:https://soky.org
X-WR-CALDESC:Events for Special Olympics Kentucky
REFRESH-INTERVAL;VALUE=DURATION:PT1H
X-Robots-Tag:noindex
X-PUBLISHED-TTL:PT1H
BEGIN:VTIMEZONE
TZID:America/New_York
BEGIN:DAYLIGHT
TZOFFSETFROM:-0500
TZOFFSETTO:-0400
TZNAME:EDT
DTSTART:20220313T070000
END:DAYLIGHT
BEGIN:STANDARD
TZOFFSETFROM:-0400
TZOFFSETTO:-0500
TZNAME:EST
DTSTART:20221106T060000
END:STANDARD
BEGIN:DAYLIGHT
TZOFFSETFROM:-0500
TZOFFSETTO:-0400
TZNAME:EDT
DTSTART:20230312T070000
END:DAYLIGHT
BEGIN:STANDARD
TZOFFSETFROM:-0400
TZOFFSETTO:-0500
TZNAME:EST
DTSTART:20231105T060000
END:STANDARD
BEGIN:DAYLIGHT
TZOFFSETFROM:-0500
TZOFFSETTO:-0400
TZNAME:EDT
DTSTART:20240310T070000
END:DAYLIGHT
BEGIN:STANDARD
TZOFFSETFROM:-0400
TZOFFSETTO:-0500
TZNAME:EST
DTSTART:20241103T060000
END:STANDARD
END:VTIMEZONE
BEGIN:VEVENT
DTSTART;TZID=America/New_York:20230805T080000
DTEND;TZID=America/New_York:20230805T170000
DTSTAMP:20260422T123633
CREATED:20230626T141316Z
LAST-MODIFIED:20230626T141316Z
UID:13146-1691222400-1691254800@soky.org
SUMMARY:Region 1 Softball Tournament
DESCRIPTION:Teams from across the western half of the state compete for the opportunity to head to the State Softball Tournament in Bowling Green.
URL:https://soky.org/event/region-1-softball-tournament-2/
LOCATION:Lone Oak Park\, 650 Denver Ave.\, Paducah\, KY\, KY\, 42001\, United States
CATEGORIES:Competition
ATTACH;FMTTYPE=image/jpeg:https://soky.org/wp-content/uploads/2023/06/23_softball_event.jpg
END:VEVENT
BEGIN:VEVENT
DTSTART;TZID=America/New_York:20230811T173000
DTEND;TZID=America/New_York:20230812T170000
DTSTAMP:20260422T123633
CREATED:20230627T130304Z
LAST-MODIFIED:20230707T130909Z
UID:13151-1691775000-1691859600@soky.org
SUMMARY:2023 Region 2 Softball Tournament
DESCRIPTION:Teams from northern and central Kentucky and surrounding communities will compete to try to earn a berth in the 2023 State Softball Tournament.
URL:https://soky.org/event/23_reg2softball/
LOCATION:Marshall Park\, 101 Airport Rd.\, Georgetown\, KY\, 40324\, United States
CATEGORIES:Competition
ATTACH;FMTTYPE=image/jpeg:https://soky.org/wp-content/uploads/2021/08/21_SoftballEvent.jpg
END:VEVENT
BEGIN:VEVENT
DTSTART;TZID=America/New_York:20230813T150000
DTEND;TZID=America/New_York:20230813T190000
DTSTAMP:20260422T123633
CREATED:20230627T130548Z
LAST-MODIFIED:20230731T184610Z
UID:13141-1691938800-1691953200@soky.org
SUMMARY:2023 Lexington Golf Regional
DESCRIPTION:Golfers compete at Lakeside Golf Course in Lexington to qualify for the State Golf Tournament.
URL:https://soky.org/event/23_lexregionalgolf/
LOCATION:Lakeside Golf Course\, 3725 Richmond Rd\,\, Lexington\, KY\, 40509\, United States
CATEGORIES:Competition
ATTACH;FMTTYPE=image/jpeg:https://soky.org/wp-content/uploads/2021/07/21_GolfEvent-scaled-e1708707001845.jpg
ORGANIZER;CN="Kathy Marshall":MAILTO:kmarshall@soky.org
END:VEVENT
BEGIN:VEVENT
DTSTART;TZID=America/New_York:20230819T080000
DTEND;TZID=America/New_York:20230819T180000
DTSTAMP:20260422T123633
CREATED:20230627T142051Z
LAST-MODIFIED:20230627T142051Z
UID:13153-1692432000-1692468000@soky.org
SUMMARY:2023 Region 3 Softball Tournament
DESCRIPTION:Teams from the Greater Louisville area compete to earn a berth in the 2023 State Softball Tournament.
URL:https://soky.org/event/23_reg3softball/
LOCATION:Lyndon Recreation Center\, 9310 Whipps Mill Rd\, Louuisville\, KY\, 40242\, United States
CATEGORIES:Competition
ATTACH;FMTTYPE=image/jpeg:https://soky.org/wp-content/uploads/2021/08/21_SoftballEvent.jpg
END:VEVENT
BEGIN:VEVENT
DTSTART;TZID=America/New_York:20230826T140000
DTEND;TZID=America/New_York:20230826T170000
DTSTAMP:20260422T123633
CREATED:20230627T151344Z
LAST-MODIFIED:20230627T151344Z
UID:13158-1693058400-1693069200@soky.org
SUMMARY:2023 State Golf Tournament
DESCRIPTION:Golfers from across the state go for the gold at Quail Chase Golf Course in Louisville.
URL:https://soky.org/event/23_stategolf/
CATEGORIES:Competition
ATTACH;FMTTYPE=image/jpeg:https://soky.org/wp-content/uploads/2022/04/22_GolfEvents.jpg
END:VEVENT
END:VCALENDAR