BEGIN:VCALENDAR
VERSION:2.0
PRODID:-//Special Olympics Kentucky - ECPv6.15.20//NONSGML v1.0//EN
CALSCALE:GREGORIAN
METHOD:PUBLISH
X-ORIGINAL-URL:https://soky.org
X-WR-CALDESC:Events for Special Olympics Kentucky
REFRESH-INTERVAL;VALUE=DURATION:PT1H
X-Robots-Tag:noindex
X-PUBLISHED-TTL:PT1H
BEGIN:VTIMEZONE
TZID:America/New_York
BEGIN:DAYLIGHT
TZOFFSETFROM:-0500
TZOFFSETTO:-0400
TZNAME:EDT
DTSTART:20220313T070000
END:DAYLIGHT
BEGIN:STANDARD
TZOFFSETFROM:-0400
TZOFFSETTO:-0500
TZNAME:EST
DTSTART:20221106T060000
END:STANDARD
BEGIN:DAYLIGHT
TZOFFSETFROM:-0500
TZOFFSETTO:-0400
TZNAME:EDT
DTSTART:20230312T070000
END:DAYLIGHT
BEGIN:STANDARD
TZOFFSETFROM:-0400
TZOFFSETTO:-0500
TZNAME:EST
DTSTART:20231105T060000
END:STANDARD
BEGIN:DAYLIGHT
TZOFFSETFROM:-0500
TZOFFSETTO:-0400
TZNAME:EDT
DTSTART:20240310T070000
END:DAYLIGHT
BEGIN:STANDARD
TZOFFSETFROM:-0400
TZOFFSETTO:-0500
TZNAME:EST
DTSTART:20241103T060000
END:STANDARD
END:VTIMEZONE
BEGIN:VEVENT
DTSTART;TZID=America/New_York:20230908T173000
DTEND;TZID=America/New_York:20230909T173000
DTSTAMP:20260422T142322
CREATED:20230627T151825Z
LAST-MODIFIED:20230905T134434Z
UID:13160-1694194200-1694280600@soky.org
SUMMARY:2023 State Softball Tournament and Team Skills Competition
DESCRIPTION:Teams from across Kentucky compete for gold medals at Michael O. Buchanon Park in Bowling Green. More than 50 teams will compete in the State Tournament. Teams that did not qualify but want to participate in the weekend have the option to compete in the Team Skills Competition. \n2023 State Softball Tournament Brackets \n2023 State Softball Team Skills Competition Schedule
URL:https://soky.org/event/23_statesoftball/
LOCATION:Michael O Buchanon Park\, 9222 Nashville Road\, Bowling Green\, KY\, 42102\, United States
CATEGORIES:Competition
ATTACH;FMTTYPE=image/jpeg:https://soky.org/wp-content/uploads/2021/08/21_StateSoftball_Event.jpg
END:VEVENT
BEGIN:VEVENT
DTSTART;TZID=America/New_York:20230930T090000
DTEND;TZID=America/New_York:20230930T150000
DTSTAMP:20260422T142322
CREATED:20230808T164956Z
LAST-MODIFIED:20230808T164956Z
UID:13325-1696064400-1696086000@soky.org
SUMMARY:2023 State Equestrian Competition
DESCRIPTION:Athletes from therapeutic riding clubs across the state compete in events including Dressage\, English Equitation\, Western Equitation and Working Trails. \nVolunteer
URL:https://soky.org/event/23stateequestrian/
LOCATION:Shelby County Fairgrounds\, 1513 Midland Trail\, Shelbyville\, KY\, 40065\, United States
CATEGORIES:Competition
ATTACH;FMTTYPE=image/jpeg:https://soky.org/wp-content/uploads/2023/08/23_stateequestrian_event.jpg
ORGANIZER;CN="Kathy Marshall":MAILTO:kmarshall@soky.org
END:VEVENT
END:VCALENDAR