BEGIN:VCALENDAR
VERSION:2.0
PRODID:-//Special Olympics Kentucky - ECPv6.15.20//NONSGML v1.0//EN
CALSCALE:GREGORIAN
METHOD:PUBLISH
X-ORIGINAL-URL:https://soky.org
X-WR-CALDESC:Events for Special Olympics Kentucky
REFRESH-INTERVAL;VALUE=DURATION:PT1H
X-Robots-Tag:noindex
X-PUBLISHED-TTL:PT1H
BEGIN:VTIMEZONE
TZID:America/New_York
BEGIN:DAYLIGHT
TZOFFSETFROM:-0500
TZOFFSETTO:-0400
TZNAME:EDT
DTSTART:20220313T070000
END:DAYLIGHT
BEGIN:STANDARD
TZOFFSETFROM:-0400
TZOFFSETTO:-0500
TZNAME:EST
DTSTART:20221106T060000
END:STANDARD
BEGIN:DAYLIGHT
TZOFFSETFROM:-0500
TZOFFSETTO:-0400
TZNAME:EDT
DTSTART:20230312T070000
END:DAYLIGHT
BEGIN:STANDARD
TZOFFSETFROM:-0400
TZOFFSETTO:-0500
TZNAME:EST
DTSTART:20231105T060000
END:STANDARD
BEGIN:DAYLIGHT
TZOFFSETFROM:-0500
TZOFFSETTO:-0400
TZNAME:EDT
DTSTART:20240310T070000
END:DAYLIGHT
BEGIN:STANDARD
TZOFFSETFROM:-0400
TZOFFSETTO:-0500
TZNAME:EST
DTSTART:20241103T060000
END:STANDARD
END:VTIMEZONE
BEGIN:VEVENT
DTSTART;TZID=America/New_York:20231001T090000
DTEND;TZID=America/New_York:20231001T150000
DTSTAMP:20260422T155750
CREATED:20230808T165710Z
LAST-MODIFIED:20230808T165710Z
UID:13328-1696150800-1696172400@soky.org
SUMMARY:2023 Louisville Flag Football Regional Tournament
DESCRIPTION:Teams will compete to advance to the State Flag Football Tournament.
URL:https://soky.org/event/23louisvilleflagfootball/
LOCATION:St. Xavier High School\, 1609 Poplar Level Rd\, Louisville\, 40217\, United States
CATEGORIES:Competition
ATTACH;FMTTYPE=image/jpeg:https://soky.org/wp-content/uploads/2023/08/23_flagfootball_event1.jpg
END:VEVENT
BEGIN:VEVENT
DTSTART;TZID=America/New_York:20231007T090000
DTEND;TZID=America/New_York:20231008T150000
DTSTAMP:20260422T155750
CREATED:20230808T173126Z
LAST-MODIFIED:20230808T173126Z
UID:13332-1696669200-1696777200@soky.org
SUMMARY:2023 Area 4 Bowling Tournament
DESCRIPTION:Athletes from Louisville and the Surrounding area will compete for the opportunity to advance to the State Bowling Tournament. \nVolunteer
URL:https://soky.org/event/23area4bowling/
LOCATION:Kingpin Lanes\, 9525 Taylorsville Rd\, Jeffersontown\, KY\, 40299\, United States
CATEGORIES:Competition
ATTACH;FMTTYPE=image/jpeg:https://soky.org/wp-content/uploads/2023/08/23_areabowling_event.jpg
ORGANIZER;CN="Kathy Marshall":MAILTO:kmarshall@soky.org
END:VEVENT
BEGIN:VEVENT
DTSTART;TZID=America/New_York:20231014T080000
DTEND;TZID=America/New_York:20231015T163000
DTSTAMP:20260422T155750
CREATED:20230808T174913Z
LAST-MODIFIED:20230808T174913Z
UID:13338-1697270400-1697387400@soky.org
SUMMARY:2023 Area 1 Bowling Tournament
DESCRIPTION:Athletes from far western Kentucky compete for the opportunity to advance to the State Bowling Tournament. \nVolunteer
URL:https://soky.org/event/23area1bowling/
LOCATION:Cardinal Lanes\, 816 Joe Clifton Dr\, Paducah\, KY\, 42001\, United States
CATEGORIES:Competition
ATTACH;FMTTYPE=image/jpeg:https://soky.org/wp-content/uploads/2023/08/23_area1bowling_event.jpg
ORGANIZER;CN="Kathy Marshall":MAILTO:kmarshall@soky.org
END:VEVENT
BEGIN:VEVENT
DTSTART;TZID=America/New_York:20231014T090000
DTEND;TZID=America/New_York:20231014T140000
DTSTAMP:20260422T155750
CREATED:20230808T175132Z
LAST-MODIFIED:20230813T194948Z
UID:13394-1697274000-1697292000@soky.org
SUMMARY:2023 Area 6 Bowling Tournament
DESCRIPTION:Athletes from south central Kentucky compete to try qualify for the State Bowling Tournament.
URL:https://soky.org/event/2023-area-6-bowling-tournament/
LOCATION:Galaxy Bowl\, 1025 Amberly Way\, Richmond\, 40475\, United States
CATEGORIES:Competition
ATTACH;FMTTYPE=image/jpeg:https://soky.org/wp-content/uploads/2023/08/23_areabowling_event.jpg
ORGANIZER;CN="Kathy Marshall":MAILTO:kmarshall@soky.org
END:VEVENT
BEGIN:VEVENT
DTSTART;TZID=America/New_York:20231020T110000
DTEND;TZID=America/New_York:20231022T153000
DTSTAMP:20260422T155750
CREATED:20230808T175747Z
LAST-MODIFIED:20230808T175747Z
UID:13341-1697799600-1697988600@soky.org
SUMMARY:2023 Area 8 Bowling Tournament
DESCRIPTION:Athletes from around central Kentucky will compete for the opportunity to advance to the State Bowling Tournament. \nVolunteer
URL:https://soky.org/event/23area8bowling/
LOCATION:Southland Lanes\, 205 Southland Dr.\, Lexington\, KY\, 40503\, United States
CATEGORIES:Competition
ATTACH;FMTTYPE=image/jpeg:https://soky.org/wp-content/uploads/2023/08/23_areabowling_event.jpg
ORGANIZER;CN="Kathy Marshall":MAILTO:kmarshall@soky.org
END:VEVENT
BEGIN:VEVENT
DTSTART;TZID=America/New_York:20231021T080000
DTEND;TZID=America/New_York:20231021T130000
DTSTAMP:20260422T155750
CREATED:20230808T180849Z
LAST-MODIFIED:20230808T180849Z
UID:13343-1697875200-1697893200@soky.org
SUMMARY:2023 Area 5 Bowling Tournament
DESCRIPTION:Athletes from south central Kentucky including Bowling Green compete for the opportunity to advance to the State Bowling Tournament. \nVolunteer
URL:https://soky.org/event/23area5bowling/
LOCATION:Southern Lanes\, 2710 Scottsville Rd\, Bowling Green\, KY\, 42104\, United States
CATEGORIES:Competition
ATTACH;FMTTYPE=image/jpeg:https://soky.org/wp-content/uploads/2023/08/23_areabowling_event.jpg
ORGANIZER;CN="Kathy Marshall":MAILTO:kmarshall@soky.org
END:VEVENT
BEGIN:VEVENT
DTSTART;TZID=America/New_York:20231021T080000
DTEND;TZID=America/New_York:20231021T150000
DTSTAMP:20260422T155750
CREATED:20230808T181236Z
LAST-MODIFIED:20230808T181236Z
UID:13346-1697875200-1697900400@soky.org
SUMMARY:2023 Area 7 Bowling Tournament
DESCRIPTION:Athletes from northern Kentucky will compete for the opportunity to advance to the State Bowling Tournament. \nVolunteer
URL:https://soky.org/event/23area7bowling/
LOCATION:Super Bowl Bellewood\, 1211 Waterworks Rd.\, Newport\, KY\, 41071\, United States
CATEGORIES:Competition
ATTACH;FMTTYPE=image/jpeg:https://soky.org/wp-content/uploads/2023/08/23_areabowling_event.jpg
END:VEVENT
BEGIN:VEVENT
DTSTART;TZID=America/New_York:20231022T090000
DTEND;TZID=America/New_York:20231022T130000
DTSTAMP:20260422T155750
CREATED:20230808T184056Z
LAST-MODIFIED:20231005T194316Z
UID:13580-1697965200-1697979600@soky.org
SUMMARY:2023 Western Kentucky Flag Football Tournament
DESCRIPTION:Teams from across the state will compete in order to qualify for the State Flag Football Tournament.
URL:https://soky.org/event/23westernkyfootball/
LOCATION:McCracken County High School\, 6530 Old Hwy 60\, Paducah\, KY\, 42001\, United States
CATEGORIES:Competition
ATTACH;FMTTYPE=image/jpeg:https://soky.org/wp-content/uploads/2023/08/23_flagfootball_event1.jpg
END:VEVENT
BEGIN:VEVENT
DTSTART;TZID=America/New_York:20231022T100000
DTEND;TZID=America/New_York:20231022T150000
DTSTAMP:20260422T155750
CREATED:20230808T183710Z
LAST-MODIFIED:20230808T183710Z
UID:13348-1697968800-1697986800@soky.org
SUMMARY:2023 Northern Kentucky Flag Football Regional Tournament
DESCRIPTION:Teams from across the state will compete in order to qualify for the State Flag Football Tournament.
URL:https://soky.org/event/23nkyflagfootball/
LOCATION:Republic Bank Field at Thomas More University\, Chelsea Dr.\, Crescent Springs\, KY\, 41017\, United States
CATEGORIES:Competition
ATTACH;FMTTYPE=image/jpeg:https://soky.org/wp-content/uploads/2023/08/23_flagfootball_event1.jpg
END:VEVENT
BEGIN:VEVENT
DTSTART;TZID=America/New_York:20231028T080000
DTEND;TZID=America/New_York:20231028T133000
DTSTAMP:20260422T155750
CREATED:20230808T185909Z
LAST-MODIFIED:20230808T185909Z
UID:13352-1698480000-1698499800@soky.org
SUMMARY:2023 Area 3&9 Bowling Tournament
DESCRIPTION:Athletes from southeastern Kentucky compete to qualify for the State Bowling Tournament. \nVolunteer
URL:https://soky.org/event/23area3-9bowling/
LOCATION:Bowl Rite\, 94 Mayo Hollow\, Prestonsburg\, KY\, 41653\, United States
CATEGORIES:Competition
ATTACH;FMTTYPE=image/jpeg:https://soky.org/wp-content/uploads/2023/08/23_areabowling_event.jpg
ORGANIZER;CN="Kathy Marshall":MAILTO:kmarshall@soky.org
END:VEVENT
BEGIN:VEVENT
DTSTART;TZID=America/New_York:20231028T123000
DTEND;TZID=America/New_York:20231028T180000
DTSTAMP:20260422T155750
CREATED:20230808T190139Z
LAST-MODIFIED:20230913T135355Z
UID:13350-1698496200-1698516000@soky.org
SUMMARY:2023 Area 2 Bowling Tournament
DESCRIPTION:Athletes from the area around Owensboro compete for the opportunity to advance to the State Bowling Tournament. \nVolunteer
URL:https://soky.org/event/23area2bowling/
LOCATION:Diamond Lanes South\, 410 Carlton Dr\, Owensboro\, KY\, 42303\, United States
CATEGORIES:Competition
ATTACH;FMTTYPE=image/jpeg:https://soky.org/wp-content/uploads/2023/08/23_areabowling_event.jpg
ORGANIZER;CN="Kathy Marshall":MAILTO:kmarshall@soky.org
END:VEVENT
END:VCALENDAR