BEGIN:VCALENDAR
VERSION:2.0
PRODID:-//Special Olympics Kentucky - ECPv6.15.20//NONSGML v1.0//EN
CALSCALE:GREGORIAN
METHOD:PUBLISH
X-WR-CALNAME:Special Olympics Kentucky
X-ORIGINAL-URL:https://soky.org
X-WR-CALDESC:Events for Special Olympics Kentucky
REFRESH-INTERVAL;VALUE=DURATION:PT1H
X-Robots-Tag:noindex
X-PUBLISHED-TTL:PT1H
BEGIN:VTIMEZONE
TZID:America/New_York
BEGIN:DAYLIGHT
TZOFFSETFROM:-0500
TZOFFSETTO:-0400
TZNAME:EDT
DTSTART:20220313T070000
END:DAYLIGHT
BEGIN:STANDARD
TZOFFSETFROM:-0400
TZOFFSETTO:-0500
TZNAME:EST
DTSTART:20221106T060000
END:STANDARD
BEGIN:DAYLIGHT
TZOFFSETFROM:-0500
TZOFFSETTO:-0400
TZNAME:EDT
DTSTART:20230312T070000
END:DAYLIGHT
BEGIN:STANDARD
TZOFFSETFROM:-0400
TZOFFSETTO:-0500
TZNAME:EST
DTSTART:20231105T060000
END:STANDARD
BEGIN:DAYLIGHT
TZOFFSETFROM:-0500
TZOFFSETTO:-0400
TZNAME:EDT
DTSTART:20240310T070000
END:DAYLIGHT
BEGIN:STANDARD
TZOFFSETFROM:-0400
TZOFFSETTO:-0500
TZNAME:EST
DTSTART:20241103T060000
END:STANDARD
END:VTIMEZONE
BEGIN:VEVENT
DTSTART;TZID=America/New_York:20230602T160000
DTEND;TZID=America/New_York:20230604T120000
DTSTAMP:20260422T175252
CREATED:20230502T172133Z
LAST-MODIFIED:20230525T161512Z
UID:12938-1685721600-1685880000@soky.org
SUMMARY:2023 State Summer Games
DESCRIPTION:More than 1\,1oo athletes from across the state will compete in ttrack and field\, bocce\, rhythmic gymnastics and soccer at the 2023 State Summer Games June 2-4 at Eastern Kentucky University in Richmond. \nVolunteer \nState Summer Games Schedule\nFRIDAY\, JUNE 2\n9:00 am: Law Enforcement Torch Tun Final Leg\n– 9:00 am: Opening Ceremony; Capitol Rotunda\, Frankfort\n– 9:20 (approx.): Opening Run from State Capitol\n– 10:30 am: Stewart Home School Run & Ceremony; Stewart Home School\, Frankfort\n– 1:15 pm: Lexington run from Transylvania University to Downtown and then to the\nUniversity of Kentucky Wildcat statue.\n– 3:30 pm: Richmond Police Department Ceremony & run to EKU; Richmond PD Station \n6:00 pm: Opening Ceremonies (Ravine) \nCompetition for the following will begin after Opening Ceremonies:\nUnified Bocce Competition (Intramural Fields off Van Hoose Drive)\nTrack Events – 5k\, 1\,500m\, 100 m wheelchair race & Relay Events (Tom Samuels Track)  \nSATURDAY\, JUNE 3\n8:00 am: Bocce Athlete Doubles (Intramural Fields off Van Hoose Drive)\n8:00 am: Track & Field Events (Saturday’s Track & Field Schedule will be the Male/Female format: Morning will be males on the track and females in field events.  Schedule will flip for the afternoon with all female track events and male field events.\n8:30 am: Rhythmic Gymnastics (Student Recreation Center\, Main Floor)\n8:30 am: Soccer Competition (Intramural Fields)\n9:00am – 2:00pm: Olympic Town\, Powell Plaza\n9:00 am – 2:00 pm: Healthy Athletes Screenings (Powell Building on second floor)\n7:30 pm – Closing Ceremonies & Dance (Powell Plaza)
URL:https://soky.org/event/23summergames/
LOCATION:Eastern Kentucky University\, 521 Lancaster Ave.\, Richmond\, KY\, 40475\, United States
CATEGORIES:Competition
ATTACH;FMTTYPE=image/jpeg:https://soky.org/wp-content/uploads/2023/05/23_statesummergames_event.jpg
ORGANIZER;CN="Trish Mazzoni":MAILTO:tmazzoni@soky.org
END:VEVENT
END:VCALENDAR