BEGIN:VCALENDAR
VERSION:2.0
PRODID:-//Special Olympics Kentucky - ECPv6.15.20//NONSGML v1.0//EN
CALSCALE:GREGORIAN
METHOD:PUBLISH
X-WR-CALNAME:Special Olympics Kentucky
X-ORIGINAL-URL:https://soky.org
X-WR-CALDESC:Events for Special Olympics Kentucky
REFRESH-INTERVAL;VALUE=DURATION:PT1H
X-Robots-Tag:noindex
X-PUBLISHED-TTL:PT1H
BEGIN:VTIMEZONE
TZID:America/New_York
BEGIN:DAYLIGHT
TZOFFSETFROM:-0500
TZOFFSETTO:-0400
TZNAME:EDT
DTSTART:20220313T070000
END:DAYLIGHT
BEGIN:STANDARD
TZOFFSETFROM:-0400
TZOFFSETTO:-0500
TZNAME:EST
DTSTART:20221106T060000
END:STANDARD
BEGIN:DAYLIGHT
TZOFFSETFROM:-0500
TZOFFSETTO:-0400
TZNAME:EDT
DTSTART:20230312T070000
END:DAYLIGHT
BEGIN:STANDARD
TZOFFSETFROM:-0400
TZOFFSETTO:-0500
TZNAME:EST
DTSTART:20231105T060000
END:STANDARD
BEGIN:DAYLIGHT
TZOFFSETFROM:-0500
TZOFFSETTO:-0400
TZNAME:EDT
DTSTART:20240310T070000
END:DAYLIGHT
BEGIN:STANDARD
TZOFFSETFROM:-0400
TZOFFSETTO:-0500
TZNAME:EST
DTSTART:20241103T060000
END:STANDARD
END:VTIMEZONE
BEGIN:VEVENT
DTSTART;TZID=America/New_York:20230716T150000
DTEND;TZID=America/New_York:20230716T193000
DTSTAMP:20260422T155752
CREATED:20230625T223107Z
LAST-MODIFIED:20230626T000846Z
UID:13111-1689519600-1689535800@soky.org
SUMMARY:2023 Northern Kentucky Regional Golf Tournament
DESCRIPTION:Golfers compete on the Pioneer Course at Kenton County Golf Course in order to qualify for the State Golf Tournament. \nVolunteer
URL:https://soky.org/event/23_nkygolfregional/
LOCATION:The Golf Courses of Kenton County\, 3908 Richardson Rd.\, Independence\, KY\, 41051\, United States
CATEGORIES:Competition
ATTACH;FMTTYPE=image/jpeg:https://soky.org/wp-content/uploads/2022/04/22_GolfEvents.jpg
ORGANIZER;CN="Kathy Marshall":MAILTO:kmarshall@soky.org
END:VEVENT
END:VCALENDAR