BEGIN:VCALENDAR
VERSION:2.0
PRODID:-//Special Olympics Kentucky - ECPv6.15.20//NONSGML v1.0//EN
CALSCALE:GREGORIAN
METHOD:PUBLISH
X-ORIGINAL-URL:https://soky.org
X-WR-CALDESC:Events for Special Olympics Kentucky
REFRESH-INTERVAL;VALUE=DURATION:PT1H
X-Robots-Tag:noindex
X-PUBLISHED-TTL:PT1H
BEGIN:VTIMEZONE
TZID:America/New_York
BEGIN:DAYLIGHT
TZOFFSETFROM:-0500
TZOFFSETTO:-0400
TZNAME:EDT
DTSTART:20220313T070000
END:DAYLIGHT
BEGIN:STANDARD
TZOFFSETFROM:-0400
TZOFFSETTO:-0500
TZNAME:EST
DTSTART:20221106T060000
END:STANDARD
BEGIN:DAYLIGHT
TZOFFSETFROM:-0500
TZOFFSETTO:-0400
TZNAME:EDT
DTSTART:20230312T070000
END:DAYLIGHT
BEGIN:STANDARD
TZOFFSETFROM:-0400
TZOFFSETTO:-0500
TZNAME:EST
DTSTART:20231105T060000
END:STANDARD
BEGIN:DAYLIGHT
TZOFFSETFROM:-0500
TZOFFSETTO:-0400
TZNAME:EDT
DTSTART:20240310T070000
END:DAYLIGHT
BEGIN:STANDARD
TZOFFSETFROM:-0400
TZOFFSETTO:-0500
TZNAME:EST
DTSTART:20241103T060000
END:STANDARD
END:VTIMEZONE
BEGIN:VEVENT
DTSTART;TZID=America/New_York:20231020T110000
DTEND;TZID=America/New_York:20231022T153000
DTSTAMP:20260422T175529
CREATED:20230808T175747Z
LAST-MODIFIED:20230808T175747Z
UID:13341-1697799600-1697988600@soky.org
SUMMARY:2023 Area 8 Bowling Tournament
DESCRIPTION:Athletes from around central Kentucky will compete for the opportunity to advance to the State Bowling Tournament. \nVolunteer
URL:https://soky.org/event/23area8bowling/
LOCATION:Southland Lanes\, 205 Southland Dr.\, Lexington\, KY\, 40503\, United States
CATEGORIES:Competition
ATTACH;FMTTYPE=image/jpeg:https://soky.org/wp-content/uploads/2023/08/23_areabowling_event.jpg
ORGANIZER;CN="Kathy Marshall":MAILTO:kmarshall@soky.org
END:VEVENT
BEGIN:VEVENT
DTSTART;TZID=America/New_York:20231021T080000
DTEND;TZID=America/New_York:20231021T130000
DTSTAMP:20260422T175529
CREATED:20230808T180849Z
LAST-MODIFIED:20230808T180849Z
UID:13343-1697875200-1697893200@soky.org
SUMMARY:2023 Area 5 Bowling Tournament
DESCRIPTION:Athletes from south central Kentucky including Bowling Green compete for the opportunity to advance to the State Bowling Tournament. \nVolunteer
URL:https://soky.org/event/23area5bowling/
LOCATION:Southern Lanes\, 2710 Scottsville Rd\, Bowling Green\, KY\, 42104\, United States
CATEGORIES:Competition
ATTACH;FMTTYPE=image/jpeg:https://soky.org/wp-content/uploads/2023/08/23_areabowling_event.jpg
ORGANIZER;CN="Kathy Marshall":MAILTO:kmarshall@soky.org
END:VEVENT
BEGIN:VEVENT
DTSTART;TZID=America/New_York:20231021T080000
DTEND;TZID=America/New_York:20231021T150000
DTSTAMP:20260422T175529
CREATED:20230808T181236Z
LAST-MODIFIED:20230808T181236Z
UID:13346-1697875200-1697900400@soky.org
SUMMARY:2023 Area 7 Bowling Tournament
DESCRIPTION:Athletes from northern Kentucky will compete for the opportunity to advance to the State Bowling Tournament. \nVolunteer
URL:https://soky.org/event/23area7bowling/
LOCATION:Super Bowl Bellewood\, 1211 Waterworks Rd.\, Newport\, KY\, 41071\, United States
CATEGORIES:Competition
ATTACH;FMTTYPE=image/jpeg:https://soky.org/wp-content/uploads/2023/08/23_areabowling_event.jpg
END:VEVENT
END:VCALENDAR