BEGIN:VCALENDAR
VERSION:2.0
PRODID:-//Special Olympics Kentucky - ECPv6.15.20//NONSGML v1.0//EN
CALSCALE:GREGORIAN
METHOD:PUBLISH
X-WR-CALNAME:Special Olympics Kentucky
X-ORIGINAL-URL:https://soky.org
X-WR-CALDESC:Events for Special Olympics Kentucky
REFRESH-INTERVAL;VALUE=DURATION:PT1H
X-Robots-Tag:noindex
X-PUBLISHED-TTL:PT1H
BEGIN:VTIMEZONE
TZID:America/New_York
BEGIN:DAYLIGHT
TZOFFSETFROM:-0500
TZOFFSETTO:-0400
TZNAME:EDT
DTSTART:20220313T070000
END:DAYLIGHT
BEGIN:STANDARD
TZOFFSETFROM:-0400
TZOFFSETTO:-0500
TZNAME:EST
DTSTART:20221106T060000
END:STANDARD
BEGIN:DAYLIGHT
TZOFFSETFROM:-0500
TZOFFSETTO:-0400
TZNAME:EDT
DTSTART:20230312T070000
END:DAYLIGHT
BEGIN:STANDARD
TZOFFSETFROM:-0400
TZOFFSETTO:-0500
TZNAME:EST
DTSTART:20231105T060000
END:STANDARD
BEGIN:DAYLIGHT
TZOFFSETFROM:-0500
TZOFFSETTO:-0400
TZNAME:EDT
DTSTART:20240310T070000
END:DAYLIGHT
BEGIN:STANDARD
TZOFFSETFROM:-0400
TZOFFSETTO:-0500
TZNAME:EST
DTSTART:20241103T060000
END:STANDARD
END:VTIMEZONE
BEGIN:VEVENT
DTSTART;TZID=America/New_York:20231020T110000
DTEND;TZID=America/New_York:20231022T153000
DTSTAMP:20260422T175232
CREATED:20230808T175747Z
LAST-MODIFIED:20230808T175747Z
UID:13341-1697799600-1697988600@soky.org
SUMMARY:2023 Area 8 Bowling Tournament
DESCRIPTION:Athletes from around central Kentucky will compete for the opportunity to advance to the State Bowling Tournament. \nVolunteer
URL:https://soky.org/event/23area8bowling/
LOCATION:Southland Lanes\, 205 Southland Dr.\, Lexington\, KY\, 40503\, United States
CATEGORIES:Competition
ATTACH;FMTTYPE=image/jpeg:https://soky.org/wp-content/uploads/2023/08/23_areabowling_event.jpg
ORGANIZER;CN="Kathy Marshall":MAILTO:kmarshall@soky.org
END:VEVENT
BEGIN:VEVENT
DTSTART;TZID=America/New_York:20231022T090000
DTEND;TZID=America/New_York:20231022T130000
DTSTAMP:20260422T175232
CREATED:20230808T184056Z
LAST-MODIFIED:20231005T194316Z
UID:13580-1697965200-1697979600@soky.org
SUMMARY:2023 Western Kentucky Flag Football Tournament
DESCRIPTION:Teams from across the state will compete in order to qualify for the State Flag Football Tournament.
URL:https://soky.org/event/23westernkyfootball/
LOCATION:McCracken County High School\, 6530 Old Hwy 60\, Paducah\, KY\, 42001\, United States
CATEGORIES:Competition
ATTACH;FMTTYPE=image/jpeg:https://soky.org/wp-content/uploads/2023/08/23_flagfootball_event1.jpg
END:VEVENT
BEGIN:VEVENT
DTSTART;TZID=America/New_York:20231022T100000
DTEND;TZID=America/New_York:20231022T150000
DTSTAMP:20260422T175232
CREATED:20230808T183710Z
LAST-MODIFIED:20230808T183710Z
UID:13348-1697968800-1697986800@soky.org
SUMMARY:2023 Northern Kentucky Flag Football Regional Tournament
DESCRIPTION:Teams from across the state will compete in order to qualify for the State Flag Football Tournament.
URL:https://soky.org/event/23nkyflagfootball/
LOCATION:Republic Bank Field at Thomas More University\, Chelsea Dr.\, Crescent Springs\, KY\, 41017\, United States
CATEGORIES:Competition
ATTACH;FMTTYPE=image/jpeg:https://soky.org/wp-content/uploads/2023/08/23_flagfootball_event1.jpg
END:VEVENT
END:VCALENDAR