BEGIN:VCALENDAR
VERSION:2.0
PRODID:-//Special Olympics Kentucky - ECPv6.15.20//NONSGML v1.0//EN
CALSCALE:GREGORIAN
METHOD:PUBLISH
X-WR-CALNAME:Special Olympics Kentucky
X-ORIGINAL-URL:https://soky.org
X-WR-CALDESC:Events for Special Olympics Kentucky
REFRESH-INTERVAL;VALUE=DURATION:PT1H
X-Robots-Tag:noindex
X-PUBLISHED-TTL:PT1H
BEGIN:VTIMEZONE
TZID:America/New_York
BEGIN:DAYLIGHT
TZOFFSETFROM:-0500
TZOFFSETTO:-0400
TZNAME:EDT
DTSTART:20250309T070000
END:DAYLIGHT
BEGIN:STANDARD
TZOFFSETFROM:-0400
TZOFFSETTO:-0500
TZNAME:EST
DTSTART:20251102T060000
END:STANDARD
BEGIN:DAYLIGHT
TZOFFSETFROM:-0500
TZOFFSETTO:-0400
TZNAME:EDT
DTSTART:20260308T070000
END:DAYLIGHT
BEGIN:STANDARD
TZOFFSETFROM:-0400
TZOFFSETTO:-0500
TZNAME:EST
DTSTART:20261101T060000
END:STANDARD
BEGIN:DAYLIGHT
TZOFFSETFROM:-0500
TZOFFSETTO:-0400
TZNAME:EDT
DTSTART:20270314T070000
END:DAYLIGHT
BEGIN:STANDARD
TZOFFSETFROM:-0400
TZOFFSETTO:-0500
TZNAME:EST
DTSTART:20271107T060000
END:STANDARD
END:VTIMEZONE
BEGIN:VEVENT
DTSTART;TZID=America/New_York:20260605T180000
DTEND;TZID=America/New_York:20260607T110000
DTSTAMP:20260422T190919
CREATED:20251101T100528Z
LAST-MODIFIED:20260126T181013Z
UID:51564-1780682400-1780830000@soky.org
SUMMARY:2026 State Summer Games
DESCRIPTION:Athletes from throughout Kentucky will gather at Eastern Kentucky University in Richmond for the biggest weekend of the Special Olympics Kentucky year. Athletes will compete in Bocce\, Rhythmic Gymnastics\, Soccer and Track and Field\, as well as take part in Opening Ceremonies\, Healthy Athletes\, Olympic Town and the Closing Ceremonies and Victory Dance. \nJune 5\n6:00 pm – Opening Ceremonies\n7:00 pm – Bocce & Track and Field competition begin \nJune 6\n8:00 am – Competition begins at all venues\n10: 00 am – Healthy Athletes and Olympic Town open\n6:30 pm – Closing Ceremonies
URL:https://soky.org/event/26_summergames/
CATEGORIES:Competition
ATTACH;FMTTYPE=image/png:https://soky.org/wp-content/uploads/2026/01/26_summergames_event.png
END:VEVENT
END:VCALENDAR