BEGIN:VCALENDAR
VERSION:2.0
PRODID:-//Special Olympics Kentucky - ECPv6.15.20//NONSGML v1.0//EN
CALSCALE:GREGORIAN
METHOD:PUBLISH
X-ORIGINAL-URL:https://soky.org
X-WR-CALDESC:Events for Special Olympics Kentucky
REFRESH-INTERVAL;VALUE=DURATION:PT1H
X-Robots-Tag:noindex
X-PUBLISHED-TTL:PT1H
BEGIN:VTIMEZONE
TZID:America/New_York
BEGIN:DAYLIGHT
TZOFFSETFROM:-0500
TZOFFSETTO:-0400
TZNAME:EDT
DTSTART:20250309T070000
END:DAYLIGHT
BEGIN:STANDARD
TZOFFSETFROM:-0400
TZOFFSETTO:-0500
TZNAME:EST
DTSTART:20251102T060000
END:STANDARD
BEGIN:DAYLIGHT
TZOFFSETFROM:-0500
TZOFFSETTO:-0400
TZNAME:EDT
DTSTART:20260308T070000
END:DAYLIGHT
BEGIN:STANDARD
TZOFFSETFROM:-0400
TZOFFSETTO:-0500
TZNAME:EST
DTSTART:20261101T060000
END:STANDARD
BEGIN:DAYLIGHT
TZOFFSETFROM:-0500
TZOFFSETTO:-0400
TZNAME:EDT
DTSTART:20270314T070000
END:DAYLIGHT
BEGIN:STANDARD
TZOFFSETFROM:-0400
TZOFFSETTO:-0500
TZNAME:EST
DTSTART:20271107T060000
END:STANDARD
END:VTIMEZONE
BEGIN:VEVENT
DTSTART;TZID=America/New_York:20260627T080000
DTEND;TZID=America/New_York:20260627T213000
DTSTAMP:20260422T191544
CREATED:20251101T102726Z
LAST-MODIFIED:20260403T145529Z
UID:53129-1782547200-1782595800@soky.org
SUMMARY:2026 Team Kentucky USA Games Return
DESCRIPTION:Team Kentucky returns from the USA Games (hopefully with bunches of medals).
URL:https://soky.org/event/26_teamkentucky_return/
LOCATION:Muhammad Ali International Airport\, 600 Terminal Dr.\, Louisville\, KY\, 40209\, United States
CATEGORIES:Competition
ATTACH;FMTTYPE=image/jpeg:https://soky.org/wp-content/uploads/2026/04/26_teamky_return.jpg
ORGANIZER;CN="Holly Vincent":MAILTO:hvincent@soky.org
END:VEVENT
END:VCALENDAR