BEGIN:VCALENDAR
VERSION:2.0
PRODID:-//Special Olympics Kentucky - ECPv6.15.20//NONSGML v1.0//EN
CALSCALE:GREGORIAN
METHOD:PUBLISH
X-ORIGINAL-URL:https://soky.org
X-WR-CALDESC:Events for Special Olympics Kentucky
REFRESH-INTERVAL;VALUE=DURATION:PT1H
X-Robots-Tag:noindex
X-PUBLISHED-TTL:PT1H
BEGIN:VTIMEZONE
TZID:America/New_York
BEGIN:DAYLIGHT
TZOFFSETFROM:-0500
TZOFFSETTO:-0400
TZNAME:EDT
DTSTART:20240310T070000
END:DAYLIGHT
BEGIN:STANDARD
TZOFFSETFROM:-0400
TZOFFSETTO:-0500
TZNAME:EST
DTSTART:20241103T060000
END:STANDARD
BEGIN:DAYLIGHT
TZOFFSETFROM:-0500
TZOFFSETTO:-0400
TZNAME:EDT
DTSTART:20250309T070000
END:DAYLIGHT
BEGIN:STANDARD
TZOFFSETFROM:-0400
TZOFFSETTO:-0500
TZNAME:EST
DTSTART:20251102T060000
END:STANDARD
BEGIN:DAYLIGHT
TZOFFSETFROM:-0500
TZOFFSETTO:-0400
TZNAME:EDT
DTSTART:20260308T070000
END:DAYLIGHT
BEGIN:STANDARD
TZOFFSETFROM:-0400
TZOFFSETTO:-0500
TZNAME:EST
DTSTART:20261101T060000
END:STANDARD
END:VTIMEZONE
BEGIN:VEVENT
DTSTART;TZID=America/New_York:20251206T090000
DTEND;TZID=America/New_York:20251207T160000
DTSTAMP:20260422T194513
CREATED:20250213T170623Z
LAST-MODIFIED:20250213T182924Z
UID:18886-1765011600-1765123200@soky.org
SUMMARY:2025 State Bowling Tournament
DESCRIPTION:Athletes and Unified Partners from across the State will gather at Kingpin Lanes and Ten Pin Strike & Spare in Louisville to crown state champions at the State Bowling Tournament. The two-day event includes singles competition in three sessions on Saturday and doubles and Unified competition in one session each on Sunday.
URL:https://soky.org/event/2025-state-bowling-tournament/
LOCATION:KY
CATEGORIES:Competition
ATTACH;FMTTYPE=image/jpeg:https://soky.org/wp-content/uploads/2025/02/25_statebowling.jpg
ORGANIZER;CN="Kathy Marshall":MAILTO:kmarshall@soky.org
END:VEVENT
BEGIN:VEVENT
DTSTART;TZID=America/New_York:20251116T140000
DTEND;TZID=America/New_York:20251116T170000
DTSTAMP:20260422T194513
CREATED:20250213T161615Z
LAST-MODIFIED:20251105T183142Z
UID:38988-1763301600-1763312400@soky.org
SUMMARY:2025 State Artistic Gymnastics Competition
DESCRIPTION:Kentucky has produced some of the most decorated gymnasts in Special Olympics history. They and the next generation of Kentucky gymnasts will compete in Richmond at the State Artistic Gymnastics Competition. \nAmong those competing will be all three gymnasts selected to Team Kentucky for the 2026 Special Olympics USA Games.
URL:https://soky.org/event/25_artisticgymnastics/
LOCATION:Excel Gymnastics\, 700 S Keeneland Dr\, Richmond\, KY\, 40475\, United States
CATEGORIES:Competition
ATTACH;FMTTYPE=image/jpeg:https://soky.org/wp-content/uploads/2025/02/25_artisticgymnastics_event.jpg
ORGANIZER;CN="Kathy Marshall":MAILTO:kmarshall@soky.org
END:VEVENT
BEGIN:VEVENT
DTSTART;TZID=America/New_York:20251102T090000
DTEND;TZID=America/New_York:20251102T150000
DTSTAMP:20260422T194513
CREATED:20250213T160256Z
LAST-MODIFIED:20250813T133359Z
UID:23627-1762074000-1762095600@soky.org
SUMMARY:2025 State Flag Football Tournament
DESCRIPTION:Team from across the state will hit the gridiron at George Rogers Clark High School to go for the gold!
URL:https://soky.org/event/25_stateflagfootball/
LOCATION:George Rogers Clark High School\, 2745 Boonesboro Rd\, Winchester\, KY\, 40391\, United States
CATEGORIES:Competition
ATTACH;FMTTYPE=image/jpeg:https://soky.org/wp-content/uploads/2025/08/25_stateflagfootball.jpg
ORGANIZER;CN="Loran Trent":MAILTO:ltrent@soky.org
END:VEVENT
BEGIN:VEVENT
DTSTART;TZID=America/New_York:20251026T130000
DTEND;TZID=America/New_York:20251026T160000
DTSTAMP:20260422T194513
CREATED:20250213T152731Z
LAST-MODIFIED:20250813T132254Z
UID:23625-1761483600-1761494400@soky.org
SUMMARY:2025 Area 2 Bowling Tournament
DESCRIPTION:Athletes from the northwestern Kentucky area around Owensboro will compete to advance to the State Bowling Tournament. \nVolunteer
URL:https://soky.org/event/25_area2bowling/
LOCATION:Diamond Lanes South\, 410 Carlton Dr\, Owensboro\, KY\, 42303\, United States
CATEGORIES:Competition
ATTACH;FMTTYPE=image/jpeg:https://soky.org/wp-content/uploads/2025/08/25_areabowling1.jpg
ORGANIZER;CN="Kathy Marshall":MAILTO:kmarshall@soky.org
END:VEVENT
BEGIN:VEVENT
DTSTART;TZID=America/New_York:20251025T083000
DTEND;TZID=America/New_York:20251026T160000
DTSTAMP:20260422T194513
CREATED:20250213T152536Z
LAST-MODIFIED:20250812T202004Z
UID:23607-1761381000-1761494400@soky.org
SUMMARY:2025 Area 1 Bowling Tournament
DESCRIPTION:Athletes from far Western Kentucky compete to advance to the State Bowling Tournament in Singles and Unified Doubles competitions. \nSingles will take place in two sessions on Saturday\, Oct. 25. Younger and ramp bowlers will start at 8:30 am. Over 30 bowlers will compete starting at 12:10. \nThe Unified Doubles event will take place on Sunday\, Oct. 26\, starting at 1:30 pm.
URL:https://soky.org/event/25_area1bowling/
LOCATION:Cardinal Lanes\, 816 Joe Clifton Dr\, Paducah\, KY\, 42001\, United States
CATEGORIES:Competition
ATTACH;FMTTYPE=image/jpeg:https://soky.org/wp-content/uploads/2025/08/25_area1bowling.jpg
ORGANIZER;CN="Kathy Marshall":MAILTO:kmarshall@soky.org
END:VEVENT
BEGIN:VEVENT
DTSTART;TZID=America/New_York:20251025T083000
DTEND;TZID=America/New_York:20251025T150000
DTSTAMP:20260422T194513
CREATED:20250213T152625Z
LAST-MODIFIED:20250812T202522Z
UID:23610-1761381000-1761404400@soky.org
SUMMARY:2025 Area 5 Bowling Tournament
DESCRIPTION:Athletes from the south central part of the state centered around Bowling Green will compete in an effort to advance to the State Bowling Tournament. \nThe Singles Competition will be held in the morning and will be immediately followed by ramp bowling and the Unified doubles event.
URL:https://soky.org/event/2025-area-5-bowling-tournament/
LOCATION:Diamond Lanes South\, 410 Carlton Dr\, Owensboro\, KY\, 42303\, United States
CATEGORIES:Competition
ATTACH;FMTTYPE=image/jpeg:https://soky.org/wp-content/uploads/2025/08/25_area5bowling.jpg
ORGANIZER;CN="Kathy Marshall":MAILTO:kmarshall@soky.org
END:VEVENT
BEGIN:VEVENT
DTSTART;TZID=America/New_York:20251019T080000
DTEND;TZID=America/New_York:20251019T150000
DTSTAMP:20260422T194513
CREATED:20250213T151937Z
LAST-MODIFIED:20250908T202523Z
UID:31221-1760860800-1760886000@soky.org
SUMMARY:2025 Region 2 Flag Football Tournament
DESCRIPTION:Teams hit the gridiron in Crestview Hills to battle for regional titles and to qualify for the State Tournament.
URL:https://soky.org/event/25_reg2football/
LOCATION:Republic Bank Field at Thomas More University\, Chelsea Dr.\, Crescent Springs\, KY\, 41017\, United States
CATEGORIES:Competition
ATTACH;FMTTYPE=image/jpeg:https://soky.org/wp-content/uploads/2025/09/25_reg2football_event.jpg
ORGANIZER;CN="Loran Trent":MAILTO:ltrent@soky.org
END:VEVENT
BEGIN:VEVENT
DTSTART;TZID=America/New_York:20251018T093000
DTEND;TZID=America/New_York:20251018T123000
DTSTAMP:20260422T194513
CREATED:20250213T155917Z
LAST-MODIFIED:20250812T200632Z
UID:23602-1760779800-1760790600@soky.org
SUMMARY:2025 Area 6 Bowling Tournament
DESCRIPTION:Athletes from the southern corner of Southeastern Kentucky will compete to advance to the State Bowling Tournament.
URL:https://soky.org/event/25_area6bowling/
LOCATION:Galaxy Bowl\, 1025 Amberly Way\, Richmond\, 40475\, United States
CATEGORIES:Competition
ATTACH;FMTTYPE=image/jpeg:https://soky.org/wp-content/uploads/2025/08/25_area6bowling.jpg
ORGANIZER;CN="Kathy Marshall":MAILTO:kmarshall@soky.org
END:VEVENT
BEGIN:VEVENT
DTSTART;TZID=America/New_York:20251018T083000
DTEND;TZID=America/New_York:20251018T140000
DTSTAMP:20260422T194513
CREATED:20250213T151859Z
LAST-MODIFIED:20251006T142603Z
UID:23599-1760776200-1760796000@soky.org
SUMMARY:2025 Area 7 Bowling Tournament
DESCRIPTION:Athletes from throughout Northern Kentucky will compete in an effort to advance to the State Bowling Tournament in December. Singles and Unified Doubles competitions will take place. \nMen’s Singles competition will start at 8:00 am.\nUnified competition with start at 10:00 am.\nWomen’s Singles competition will start at Noon.
URL:https://soky.org/event/25_area7bowling/
LOCATION:Super Bowl Bellewood\, 1211 Waterworks Rd.\, Newport\, KY\, 41071\, United States
CATEGORIES:Competition
ATTACH;FMTTYPE=image/jpeg:https://soky.org/wp-content/uploads/2025/08/25_area7bowling.jpg
ORGANIZER;CN="Kathy Marshall":MAILTO:kmarshall@soky.org
END:VEVENT
BEGIN:VEVENT
DTSTART;TZID=America/New_York:20251012T090000
DTEND;TZID=America/New_York:20251012T160000
DTSTAMP:20260422T194513
CREATED:20250213T151233Z
LAST-MODIFIED:20250917T185859Z
UID:31214-1760259600-1760284800@soky.org
SUMMARY:2025 Region 1 Flag Football Tournament
DESCRIPTION:Teams hit the gridiron in Owensboro to battle for regional titles and to qualify for the State Tournament.
URL:https://soky.org/event/25_reg1football/
LOCATION:Steele Stadium – Kentucky Wesleyan College\, College Dr.\, Owensboro\, KY\, 42301\, United States
CATEGORIES:Competition
ATTACH;FMTTYPE=image/jpeg:https://soky.org/wp-content/uploads/2025/09/25_reg1football_event.jpg
ORGANIZER;CN="Loran Trent":MAILTO:ltrent@soky.org
END:VEVENT
BEGIN:VEVENT
DTSTART;TZID=America/New_York:20251011T080000
DTEND;TZID=America/New_York:20251012T110000
DTSTAMP:20260422T194513
CREATED:20250213T151146Z
LAST-MODIFIED:20250812T185342Z
UID:23596-1760169600-1760266800@soky.org
SUMMARY:2025 Area 4 Bowling Tournament
DESCRIPTION:Bowlers from Louisville and the surrounding counties compete to see who will advance to the State Bowling Tournament in December. \nSingles competition will take place on Saturday with sessions starting at 8:40 am and 12:10 pm \nThe Unified Bowling Competition will happen on Sunday starting at 8:40 am.
URL:https://soky.org/event/25_area4bowling/
LOCATION:Kingpin Lanes\, 9525 Taylorsville Rd\, Jeffersontown\, KY\, 40299\, United States
CATEGORIES:Competition
ATTACH;FMTTYPE=image/jpeg:https://soky.org/wp-content/uploads/2025/08/25_area4bowling.jpg
ORGANIZER;CN="Kathy Marshall":MAILTO:kmarshall@soky.org
END:VEVENT
BEGIN:VEVENT
DTSTART;TZID=America/New_York:20251011T080000
DTEND;TZID=America/New_York:20251011T140000
DTSTAMP:20260422T194513
CREATED:20250213T151146Z
LAST-MODIFIED:20250916T164730Z
UID:31391-1760169600-1760191200@soky.org
SUMMARY:2025 Area 3&9 Bowling Tournament
DESCRIPTION:Athletes from Central Kentucky compete in an effort to advance to the State Bowling Tournament. \nSingles and Unified Doubles competitions will take place.
URL:https://soky.org/event/25_area3-9bowling/
LOCATION:Bowl Rite\, 94 Mayo Hollow\, Prestonsburg\, KY\, 41653\, United States
CATEGORIES:Competition
ATTACH;FMTTYPE=image/jpeg:https://soky.org/wp-content/uploads/2025/09/25_area3-9bowling_event.jpg
ORGANIZER;CN="Kathy Marshall":MAILTO:kmarshall@soky.org
END:VEVENT
BEGIN:VEVENT
DTSTART;TZID=America/New_York:20251005T080000
DTEND;TZID=America/New_York:20251005T160000
DTSTAMP:20260422T194513
CREATED:20250213T150539Z
LAST-MODIFIED:20250909T200509Z
UID:31243-1759651200-1759680000@soky.org
SUMMARY:2025 Region 3 Flag Football Tournament
DESCRIPTION:Teams hit the gridiron in Louisville to battle for regional titles and to qualify for the State Tournament.
URL:https://soky.org/event/25_reg3football/
LOCATION:St. Xavier High School\, 1609 Poplar Level Rd\, Louisville\, 40217\, United States
CATEGORIES:Competition
ATTACH;FMTTYPE=image/jpeg:https://soky.org/wp-content/uploads/2025/09/25_reg3football_event.jpg
ORGANIZER;CN="Loran Trent":MAILTO:ltrent@soky.org
END:VEVENT
BEGIN:VEVENT
DTSTART;TZID=America/New_York:20251004T090000
DTEND;TZID=America/New_York:20251004T150000
DTSTAMP:20260422T194513
CREATED:20250213T150434Z
LAST-MODIFIED:20250812T183447Z
UID:23593-1759568400-1759590000@soky.org
SUMMARY:2025 Area 8 Bowling Tournament
DESCRIPTION:Athletes from Central Kentucky compete in an effort to advance to the State Bowling Tournament. \nSingles and Unified Doubles competitions will take place.
URL:https://soky.org/event/25_area8bowling/
LOCATION:Southland Lanes\, 205 Southland Dr.\, Lexington\, KY\, 40503\, United States
CATEGORIES:Competition
ATTACH;FMTTYPE=image/jpeg:https://soky.org/wp-content/uploads/2025/08/25_areabowling1.jpg
ORGANIZER;CN="Kathy Marshall":MAILTO:kmarshall@soky.org
END:VEVENT
BEGIN:VEVENT
DTSTART;TZID=America/New_York:20250927T080000
DTEND;TZID=America/New_York:20250927T140000
DTSTAMP:20260422T194513
CREATED:20250213T142746Z
LAST-MODIFIED:20250812T180058Z
UID:23589-1758960000-1758981600@soky.org
SUMMARY:2025 State Equestrian Competition
DESCRIPTION:Athletes from around the state show their skills in Dressage\, Working Trails and English and Western Equitation Classes.
URL:https://soky.org/event/25_stateequestrian/
LOCATION:Pura Vida Farm\, 877 S. Benson Rd.\, Frankfort\, KY\, 40601\, United States
CATEGORIES:Competition
ATTACH;FMTTYPE=image/jpeg:https://soky.org/wp-content/uploads/2025/08/25_stateequestrian.jpg
ORGANIZER;CN="Kathy Marshall":MAILTO:kmarshall@soky.org
END:VEVENT
BEGIN:VEVENT
DTSTART;TZID=America/New_York:20250905T183000
DTEND;TZID=America/New_York:20250907T150000
DTSTAMP:20260422T194513
CREATED:20250213T140503Z
LAST-MODIFIED:20250213T174347Z
UID:18877-1757097000-1757257200@soky.org
SUMMARY:2025 State Softball Tournament
DESCRIPTION:Teams from across the state return to Jack Fisher Park in Owensboro to compete for state championships in the State Softball Tournament and Team Skills Competition.
URL:https://soky.org/event/25_statesoftball/
LOCATION:Jack C. Fisher Park\, 3900 W 5th Street Rd\, Owensboro\, KY\, 42301\, United States
CATEGORIES:Competition
ATTACH;FMTTYPE=image/jpeg:https://soky.org/wp-content/uploads/2025/02/25_statesoftball.jpg
ORGANIZER;CN="Hunter McDowell":MAILTO:hmcdowell@soky.org
END:VEVENT
BEGIN:VEVENT
DTSTART;TZID=America/New_York:20250903T140000
DTEND;TZID=America/New_York:20250903T143000
DTSTAMP:20260422T194513
CREATED:20250213T140321Z
LAST-MODIFIED:20250813T193857Z
UID:23652-1756908000-1756909800@soky.org
SUMMARY:2026 USA Games Team Kentucky Announcement
DESCRIPTION:We will announce the 66-person Team Kentucky delegation that will represent the state in Minneapolis on the Special Olympics Kentucky Facebook page\, YouTube channel and the link will be available at that time on our X feed. \nTeam Kentucky for the 2026 Games will include 37 athletes\, eight Unified Partners\, 2 caddies and 19 coaches and staff. Kentucky athletes will be competing in Artistic Gymnastics\, Bocce\, Bowling\, Flag Football\, Golf\, Swimming\, Track and Field and Unified Basketball. We will also once again be sending a Unified pair to participate in the Youth Leadership Experience during the Games. \nThe announcement will include a few surprises and you never know who might show up\, so make sure you add it to your calendar!
URL:https://soky.org/event/2026-team-kentucky-announcement/
LOCATION:Statewide\, KY\, United States
CATEGORIES:Competition
ATTACH;FMTTYPE=image/jpeg:https://soky.org/wp-content/uploads/2025/08/26_usagamesannounce_event.jpg
END:VEVENT
BEGIN:VEVENT
DTSTART;TZID=America/New_York:20250823T100000
DTEND;TZID=America/New_York:20250823T150000
DTSTAMP:20260422T194513
CREATED:20250213T132329Z
LAST-MODIFIED:20250801T182740Z
UID:18872-1755943200-1755961200@soky.org
SUMMARY:2025 State Golf Tournament
DESCRIPTION:Athletes Go for the Gold at Lakeside Golf Course in Skills\, Unified Alternate Shot and Individual Stroke Play events.
URL:https://soky.org/event/25_stategolf/
LOCATION:Lakeside Golf Course\, 3725 Richmond Rd\,\, Lexington\, KY\, 40509\, United States
CATEGORIES:Competition
ATTACH;FMTTYPE=image/jpeg:https://soky.org/wp-content/uploads/2025/02/25_stategolf.jpg
ORGANIZER;CN="Kathy Marshall":MAILTO:kmarshall@soky.org
END:VEVENT
BEGIN:VEVENT
DTSTART;TZID=America/New_York:20250808T180000
DTEND;TZID=America/New_York:20250809T160000
DTSTAMP:20260422T194513
CREATED:20250213T130929Z
LAST-MODIFIED:20250703T194224Z
UID:22912-1754676000-1754755200@soky.org
SUMMARY:2025 Region 3 Softball Tournament
DESCRIPTION:Teams from Louisville and the surrounding counties battle to see who will advance to the State Softball Tournament.
URL:https://soky.org/event/2025_region3softball/
LOCATION:Lyndon Recreation Complex\, 9301 Whipps Mill Rd.\, Louisville\, KY\, 40242\, United States
CATEGORIES:Competition
ATTACH;FMTTYPE=image/jpeg:https://soky.org/wp-content/uploads/2025/07/25_reg3softball_event.jpg
ORGANIZER;CN="Loran Trent":MAILTO:ltrent@soky.org
END:VEVENT
BEGIN:VEVENT
DTSTART;TZID=America/New_York:20250808T170000
DTEND;TZID=America/New_York:20250809T160000
DTSTAMP:20260422T194513
CREATED:20250213T130914Z
LAST-MODIFIED:20250703T193405Z
UID:22907-1754672400-1754755200@soky.org
SUMMARY:2025 Region 2 Softball Tournament
DESCRIPTION:Teams from the eastern half of the state including Northern\, Central and Eastern Kentucky battle to see who advances to the State Softball Tournament.
URL:https://soky.org/event/2025_region2softball/
LOCATION:Marshall Park\, 101 Airport Rd.\, Georgetown\, KY\, 40324\, United States
CATEGORIES:Competition
ATTACH;FMTTYPE=image/jpeg:https://soky.org/wp-content/uploads/2025/07/25_reg2softball_event.jpg
ORGANIZER;CN="Loran Trent":MAILTO:ltrent@soky.org
END:VEVENT
BEGIN:VEVENT
DTSTART;TZID=America/New_York:20250802T080000
DTEND;TZID=America/New_York:20250802T170000
DTSTAMP:20260422T194513
CREATED:20250213T130208Z
LAST-MODIFIED:20250703T193854Z
UID:22901-1754121600-1754154000@soky.org
SUMMARY:2025 Region 1 Softball Tournament
DESCRIPTION:Teams from Western Kentucky battle to see who advances to the State Softball Tournament in September.
URL:https://soky.org/event/25_region1softball/
LOCATION:Lone Oak Park\, 650 Denver Ave.\, Paducah\, KY\, KY\, 42001\, United States
CATEGORIES:Competition
ATTACH;FMTTYPE=image/jpeg:https://soky.org/wp-content/uploads/2025/07/25_reg1softball_event2.jpg
ORGANIZER;CN="Loran Trent":MAILTO:ltrent@soky.org
END:VEVENT
BEGIN:VEVENT
DTSTART;TZID=America/New_York:20250726T150000
DTEND;TZID=America/New_York:20250726T180000
DTSTAMP:20260422T194513
CREATED:20250213T122607Z
LAST-MODIFIED:20250213T161420Z
UID:18866-1753542000-1753552800@soky.org
SUMMARY:2025 Western Kentucky Regional Golf Tournament
DESCRIPTION:Golfers and Unified Partners tee it up at Miller Memorial Golf Course trying to advance to the State Golf Tournament.
URL:https://soky.org/event/25_wkygolf/
LOCATION:Miller Memorial Golf Course\, 2814 Pottertown Rd\, Murray\, KY\, 42071\, United States
CATEGORIES:Competition
ATTACH;FMTTYPE=image/jpeg:https://soky.org/wp-content/uploads/2025/02/25_wkygolf_event.jpg
ORGANIZER;CN="Kathy Marshall":MAILTO:kmarshall@soky.org
END:VEVENT
BEGIN:VEVENT
DTSTART;TZID=America/New_York:20250719T150000
DTEND;TZID=America/New_York:20250719T180000
DTSTAMP:20260422T194513
CREATED:20250213T121951Z
LAST-MODIFIED:20250213T160901Z
UID:18862-1752937200-1752948000@soky.org
SUMMARY:2025 Lexington Regional Golf Tournament
DESCRIPTION:Golfers and Unified Partners will tee it up at Lakeside Golf Course with hopes of advancing to the State Golf Tournament.
URL:https://soky.org/event/25_lexgolf/
LOCATION:Lakeside Golf Course\, 3725 Richmond Rd\,\, Lexington\, KY\, 40509\, United States
CATEGORIES:Competition
ATTACH;FMTTYPE=image/jpeg:https://soky.org/wp-content/uploads/2025/02/25_LexGolf_Event.jpg
END:VEVENT
BEGIN:VEVENT
DTSTART;TZID=America/New_York:20250713T150000
DTEND;TZID=America/New_York:20250713T180000
DTSTAMP:20260422T194513
CREATED:20250213T121334Z
LAST-MODIFIED:20250213T160956Z
UID:18859-1752418800-1752429600@soky.org
SUMMARY:2025 Northern Kentucky Regional Golf Tournament
DESCRIPTION:Athletes and Unified Partners will hit the links on the Pioneer Course at The Golf Courses of Kenton County to try to swing their way into the State Golf Tournament.
URL:https://soky.org/event/25_nkygolf/
LOCATION:The Golf Courses of Kenton County\, 3908 Richardson Rd.\, Independence\, KY\, 41051\, United States
CATEGORIES:Competition
ATTACH;FMTTYPE=image/jpeg:https://soky.org/wp-content/uploads/2025/02/25_nkygolf_event.jpg
ORGANIZER;CN="Kathy Marshall":MAILTO:kmarshall@soky.org
END:VEVENT
BEGIN:VEVENT
DTSTART;TZID=America/New_York:20250606T080000
DTEND;TZID=America/New_York:20250608T140000
DTSTAMP:20260422T194513
CREATED:20240912T200615Z
LAST-MODIFIED:20250211T144349Z
UID:17768-1749196800-1749391200@soky.org
SUMMARY:2025 State Summer Games
DESCRIPTION:It’s the biggest weekend of the year! \nAthletes from across the state will return to Eastern Kentucky University in Richmond for the 30th consecutive year for the State Summer Games. \nAthletes will compete in bocce\, rhythmic gymnastics\, soccer and track and field at the Games\, but the competition is just part of the fun. Opening Ceremonies will be held on Friday Night. Olympic Town will give athletes a place to relax\, celebrate and play on Saturday. Saturday also includes the Healthy Athletes Wellness Village where athletes can get several free medical screenings. The Games end with a Closing Ceremony and Victory Dance! \n2025 Summer Games Tentative Schedule\nThursday\, June 5\n9:00 am-4:00 pm – Delegation Packet Pick-Up Open \nFriday\, June 6\n9:00 am – Law Enforcement Torch Run Final Leg Begins\n9:00 am-10:00 pm – Delegation Packet Pick-Up Open\n6:00 pm – Opening Ceremonies\n7:30 pm – Track and Bocce competitions begin \nSaturday\, June 7\n8:00 am – Competition begins\n10:00 am-2:00 pm – Olympic Town open\n10:00 am-2:00 pm – Healthy Athletes open\n7:30 pm – Closing Ceremony and Victory Dance
URL:https://soky.org/event/2025_summergames/
LOCATION:Eastern Kentucky University\, 521 Lancaster Ave.\, Richmond\, KY\, 40475\, United States
CATEGORIES:Competition,Health
ATTACH;FMTTYPE=image/jpeg:https://soky.org/wp-content/uploads/2024/09/25_summergames_event.jpg
ORGANIZER;CN="Kim Satterwhite":MAILTO:ksatterwhite@soky.org
END:VEVENT
BEGIN:VEVENT
DTSTART;TZID=America/New_York:20250517T103000
DTEND;TZID=America/New_York:20250517T150000
DTSTAMP:20260422T194513
CREATED:20240912T195042Z
LAST-MODIFIED:20250211T144438Z
UID:18440-1747477800-1747494000@soky.org
SUMMARY:2025 Brad Harkleroad Memorial State Swim Meet
DESCRIPTION:Swimmers from across the state go for the gold as they close the season at the State Swim Meet.
URL:https://soky.org/event/2025_stateswim/
LOCATION:Ralph Wright Natatorium\, 2216 S Floyd St\, Louisville\, KY\, 40208\, United States
CATEGORIES:Competition
ATTACH;FMTTYPE=image/jpeg:https://soky.org/wp-content/uploads/2024/12/25_stateswim.jpg
ORGANIZER;CN="Kathy Marshall":MAILTO:kmarshall@soky.org
END:VEVENT
BEGIN:VEVENT
DTSTART;TZID=America/New_York:20250510T080000
DTEND;TZID=America/New_York:20250510T150000
DTSTAMP:20260422T194513
CREATED:20240912T194700Z
LAST-MODIFIED:20250505T142130Z
UID:18437-1746864000-1746889200@soky.org
SUMMARY:2025 Area 4 Track & Field Meet
DESCRIPTION:Athletes from Louisville and the surrounding counties compete to advance to the State Summer Games.
URL:https://soky.org/event/2025_area4track/
LOCATION:Mercy Academy\, 5801 Fegenbush Ln\, Louisville\, KY\, 40228\, United States
CATEGORIES:Competition
ATTACH;FMTTYPE=image/jpeg:https://soky.org/wp-content/uploads/2024/12/25_area4track.jpg
ORGANIZER;CN="Kathy Marshall":MAILTO:kmarshall@soky.org
END:VEVENT
BEGIN:VEVENT
DTSTART;TZID=America/New_York:20250427T090000
DTEND;TZID=America/New_York:20250427T150000
DTSTAMP:20260422T194513
CREATED:20240912T194530Z
LAST-MODIFIED:20250211T144613Z
UID:18432-1745744400-1745766000@soky.org
SUMMARY:2025 Versailles Regional Soccer Tournament
DESCRIPTION:Teams from central and northern Kentucky compete to advance to the State Summer Games.
URL:https://soky.org/event/2025_versaillessoccer/
LOCATION:Woodford Youth Soccer Complex\, 126 Industry Dr\, Versailles\, KY\, 40383\, United States
CATEGORIES:Competition
ATTACH;FMTTYPE=image/jpeg:https://soky.org/wp-content/uploads/2024/12/25_versaillessoccer_event.jpg
ORGANIZER;CN="Hunter McDowell":MAILTO:hmcdowell@soky.org
END:VEVENT
BEGIN:VEVENT
DTSTART;TZID=America/New_York:20250426T150000
DTEND;TZID=America/New_York:20250426T180000
DTSTAMP:20260422T194513
CREATED:20240912T164046Z
LAST-MODIFIED:20250213T183322Z
UID:18831-1745679600-1745690400@soky.org
SUMMARY:2025 Northern Kentucky Swim Meet
DESCRIPTION:Athletes from the eastern half of Kentucky will hit the pool to try to swim their way to the Brad Harkleroad Memorial State Swim Meet in May.
URL:https://soky.org/event/25_nkyswimmeet/
LOCATION:Silverlake\, 301 Kenton Lands Rd\, Erlanger\, KY\, 41018\, United States
CATEGORIES:Competition
ATTACH;FMTTYPE=image/jpeg:https://soky.org/wp-content/uploads/2024/09/25_nkyswimmeet_event2.jpg
ORGANIZER;CN="Kathy Marshall":MAILTO:kmarshall@soky.org
END:VEVENT
BEGIN:VEVENT
DTSTART;TZID=America/New_York:20250426T093000
DTEND;TZID=America/New_York:20250426T133000
DTSTAMP:20260422T194513
CREATED:20240912T162048Z
LAST-MODIFIED:20250212T183133Z
UID:18807-1745659800-1745674200@soky.org
SUMMARY:2025 Area 2 Track & Field Meet
DESCRIPTION:Athletes from the area around Owensboro will compete in an effort to advance to the State Summer Games.
URL:https://soky.org/event/25_area2track/
LOCATION:Owensboro Middle School\, 1300 Booth Ave\, Owensboro\, KY\, 42301\, United States
CATEGORIES:Competition
ATTACH;FMTTYPE=image/jpeg:https://soky.org/wp-content/uploads/2025/02/Area2Track_event.jpg
ORGANIZER;CN="Kim Johnson":MAILTO:kjohnson@soky.org
END:VEVENT
END:VCALENDAR