BEGIN:VCALENDAR
VERSION:2.0
PRODID:-//Special Olympics Kentucky - ECPv6.15.20//NONSGML v1.0//EN
CALSCALE:GREGORIAN
METHOD:PUBLISH
X-WR-CALNAME:Special Olympics Kentucky
X-ORIGINAL-URL:https://soky.org
X-WR-CALDESC:Events for Special Olympics Kentucky
REFRESH-INTERVAL;VALUE=DURATION:PT1H
X-Robots-Tag:noindex
X-PUBLISHED-TTL:PT1H
BEGIN:VTIMEZONE
TZID:America/New_York
BEGIN:DAYLIGHT
TZOFFSETFROM:-0500
TZOFFSETTO:-0400
TZNAME:EDT
DTSTART:20230312T070000
END:DAYLIGHT
BEGIN:STANDARD
TZOFFSETFROM:-0400
TZOFFSETTO:-0500
TZNAME:EST
DTSTART:20231105T060000
END:STANDARD
BEGIN:DAYLIGHT
TZOFFSETFROM:-0500
TZOFFSETTO:-0400
TZNAME:EDT
DTSTART:20240310T070000
END:DAYLIGHT
BEGIN:STANDARD
TZOFFSETFROM:-0400
TZOFFSETTO:-0500
TZNAME:EST
DTSTART:20241103T060000
END:STANDARD
BEGIN:DAYLIGHT
TZOFFSETFROM:-0500
TZOFFSETTO:-0400
TZNAME:EDT
DTSTART:20250309T070000
END:DAYLIGHT
BEGIN:STANDARD
TZOFFSETFROM:-0400
TZOFFSETTO:-0500
TZNAME:EST
DTSTART:20251102T060000
END:STANDARD
BEGIN:DAYLIGHT
TZOFFSETFROM:-0500
TZOFFSETTO:-0400
TZNAME:EDT
DTSTART:20260308T070000
END:DAYLIGHT
BEGIN:STANDARD
TZOFFSETFROM:-0400
TZOFFSETTO:-0500
TZNAME:EST
DTSTART:20261101T060000
END:STANDARD
END:VTIMEZONE
BEGIN:VEVENT
DTSTART;TZID=America/New_York:20240427T094500
DTEND;TZID=America/New_York:20240427T113000
DTSTAMP:20260422T194801
CREATED:20230811T144210Z
LAST-MODIFIED:20240408T234959Z
UID:14536-1714211100-1714217400@soky.org
SUMMARY:2024 Area 6 Track and Field Meet
DESCRIPTION:Athletes from south central Kentucky compete to earn a spot at the State Summer Games. \nVolunteer
URL:https://soky.org/event/24area6track/
LOCATION:Southwestern High School\, 1760 WTLO Rd.\, Somerset\, KY\, 42503\, United States
CATEGORIES:Competition
ATTACH;FMTTYPE=image/jpeg:https://soky.org/wp-content/uploads/2024/02/24_area6track_event.jpg
ORGANIZER;CN="Kim Satterwhite":MAILTO:ksatterwhite@soky.org
END:VEVENT
BEGIN:VEVENT
DTSTART;TZID=America/New_York:20240427T094500
DTEND;TZID=America/New_York:20240427T120000
DTSTAMP:20260422T194801
CREATED:20230811T144431Z
LAST-MODIFIED:20240408T234934Z
UID:14547-1714211100-1714219200@soky.org
SUMMARY:2024 Area 7 Track and Field Meet
DESCRIPTION:Athletes from northern Kentucky compete for the opportunity to advance to the State Summer Games. \nVolunteer
URL:https://soky.org/event/24area7track/
LOCATION:Lloyd High School\, 450 Bartlett Ave\, Erlanger\, KY\, 41018\, United States
CATEGORIES:Competition
ATTACH;FMTTYPE=image/jpeg:https://soky.org/wp-content/uploads/2024/02/24_area7track_event.jpg
ORGANIZER;CN="Kim Satterwhite":MAILTO:ksatterwhite@soky.org
END:VEVENT
BEGIN:VEVENT
DTSTART;TZID=America/New_York:20240427T100000
DTEND;TZID=America/New_York:20240427T140000
DTSTAMP:20260422T194801
CREATED:20230811T144040Z
LAST-MODIFIED:20240408T234851Z
UID:13495-1714212000-1714226400@soky.org
SUMMARY:2024 Owensboro Swim Meet
DESCRIPTION:Swimmers from western Kentucky and throughout the state compete at Owensboro Health Healthpark in order to qualify to swim at the State Swim Meet. \nVolunteer
URL:https://soky.org/event/24owensboroswimmeet/
LOCATION:Owensboro Health Healthpark\, 1006 Ford Ave.\, Owensboro\, KY\, 42301\, United States
CATEGORIES:Competition
ATTACH;FMTTYPE=image/jpeg:https://soky.org/wp-content/uploads/2023/09/24_swimming_event.jpg
ORGANIZER;CN="Kathy Marshall":MAILTO:kmarshall@soky.org
END:VEVENT
BEGIN:VEVENT
DTSTART;TZID=America/New_York:20240428T090000
DTEND;TZID=America/New_York:20240428T150000
DTSTAMP:20260422T194801
CREATED:20230811T144624Z
LAST-MODIFIED:20240408T234752Z
UID:14554-1714294800-1714316400@soky.org
SUMMARY:2024 Louisville Regional Soccer Tournament
DESCRIPTION:Teams from Louisville and farther west in the state battle for the opportunity to advance to the State Summer Games. \nVolunteer
URL:https://soky.org/event/24louisvillesoccer/
LOCATION:Lynn Family Sports Vision & Training Center\, 801 Edith Rd\, Louisville\, KY\, 40206\, United States
CATEGORIES:Competition
ATTACH;FMTTYPE=image/jpeg:https://soky.org/wp-content/uploads/2024/02/24_lousoccer_event.jpg
ORGANIZER;CN="Holly Vincent":MAILTO:hvincent@soky.org
END:VEVENT
BEGIN:VEVENT
DTSTART;TZID=America/New_York:20240505T090000
DTEND;TZID=America/New_York:20240505T170000
DTSTAMP:20260422T194801
CREATED:20230811T144832Z
LAST-MODIFIED:20240408T234707Z
UID:14562-1714899600-1714928400@soky.org
SUMMARY:2024 Ohio County Regional Bocce Tournament
DESCRIPTION:Bocce teams from the western part of the state will compete for the opportunity to make it to the State Summer Games.
URL:https://soky.org/event/24ohiocountybocce/
LOCATION:Ohio County Park\, 2300 Highway 69 North\, Hartford\, KY\, 42347\, United States
CATEGORIES:Competition
ATTACH;FMTTYPE=image/jpeg:https://soky.org/wp-content/uploads/2024/02/24_ohiocobocce_event.jpg
ORGANIZER;CN="Kathy Marshall":MAILTO:kmarshall@soky.org
END:VEVENT
BEGIN:VEVENT
DTSTART;TZID=America/New_York:20240518T103000
DTEND;TZID=America/New_York:20240518T170000
DTSTAMP:20260422T194801
CREATED:20230811T151523Z
LAST-MODIFIED:20240430T003231Z
UID:14571-1716028200-1716051600@soky.org
SUMMARY:2024 Brad Harkleroad Memorial State Swim Meet
DESCRIPTION:Athletes from across the state go for the gold at the State Swim Meet. The State Swim Meet is a two-day event which bears the name of late Special Olympics Kentucky swimmer Brad Harkleroad.
URL:https://soky.org/event/24stateswimmeet/
LOCATION:Ralph Wright Natatorium\, 2216 S Floyd St\, Louisville\, KY\, 40208\, United States
CATEGORIES:Competition
ATTACH;FMTTYPE=image/jpeg:https://soky.org/wp-content/uploads/2024/02/24_stateswim.jpg
ORGANIZER;CN="Kathy Marshall":MAILTO:kmarshall@soky.org
END:VEVENT
BEGIN:VEVENT
DTSTART;TZID=America/New_York:20240531T090000
DTEND;TZID=America/New_York:20240602T120000
DTSTAMP:20260422T194801
CREATED:20230811T153315Z
LAST-MODIFIED:20240408T234523Z
UID:13378-1717146000-1717329600@soky.org
SUMMARY:2024 State Summer Games
DESCRIPTION:Athletes come together in Richmond for the biggest weekend of the Special Olympics Kentucky year! \nVolunteer \nThursday\, May 30\n9:00 am-4:00 pm – Delegation Packet Pick-up \nFriday\, May 31\n9:00 am – Law Enforcement Torch Run Final Leg Begins\n9:00 am-4:00 pm – Delegation Packet Pick-up Open\n4:00-10:00 pm – Delegation Packet Pick-up Open\n6:00 pm – Opening Ceremonies\n7:30 pm (approx) – Bocce & Track and Field Competitions Begin \nSaturday\, June 1\n8:00 am – Competition Begins\n9:00 am-2:00 pm – Healthy Athletes Center Open\n9:00 am-2:00 pm – Olympic Town Open\n7:30 pm – Closing Ceremony and Dance
URL:https://soky.org/event/2024-state-summer-games/
LOCATION:Eastern Kentucky University\, 521 Lancaster Ave.\, Richmond\, KY\, 40475\, United States
CATEGORIES:Competition
ATTACH;FMTTYPE=image/jpeg:https://soky.org/wp-content/uploads/2023/08/24_summergames_even.jpg
ORGANIZER;CN="Trish Mazzoni":MAILTO:tmazzoni@soky.org
END:VEVENT
BEGIN:VEVENT
DTSTART;TZID=America/New_York:20240714T150000
DTEND;TZID=America/New_York:20240714T183000
DTSTAMP:20260422T194801
CREATED:20230901T155031Z
LAST-MODIFIED:20240223T165530Z
UID:14627-1720969200-1720981800@soky.org
SUMMARY:2024 Northern Kentucky Regional Golf Tournament
DESCRIPTION:Athletes will compete in an effort to qualify for the State Golf Tournament.
URL:https://soky.org/event/24nkygolf/
LOCATION:The Golf Courses of Kenton County\, 3908 Richardson Rd.\, Independence\, KY\, 41051\, United States
CATEGORIES:Competition
ATTACH;FMTTYPE=image/jpeg:https://soky.org/wp-content/uploads/2021/07/21_GolfEvent-scaled-e1708707001845.jpg
ORGANIZER;CN="Kathy Marshall":MAILTO:kmarshall@soky.org
END:VEVENT
BEGIN:VEVENT
DTSTART;TZID=America/New_York:20240720T150000
DTEND;TZID=America/New_York:20240720T190000
DTSTAMP:20260422T194801
CREATED:20230901T155128Z
LAST-MODIFIED:20240506T175835Z
UID:15770-1721487600-1721502000@soky.org
SUMMARY:2024 Western Kentucky Regional Golf Tournament
DESCRIPTION:Athletes will compete in an effort to qualify for the State Golf Tournament.
URL:https://soky.org/event/2024wkygolf/
LOCATION:Miller Memorial Golf Course\, 2814 Pottertown Rd\, Murray\, KY\, 42071\, United States
CATEGORIES:Competition
ATTACH;FMTTYPE=image/jpeg:https://soky.org/wp-content/uploads/2023/06/23_wkygolf_event.jpg
ORGANIZER;CN="Kathy Marshall":MAILTO:kmarshall@soky.org
END:VEVENT
BEGIN:VEVENT
DTSTART;TZID=America/New_York:20240727T150000
DTEND;TZID=America/New_York:20240727T190000
DTSTAMP:20260422T194801
CREATED:20230812T172547Z
LAST-MODIFIED:20240621T165535Z
UID:15768-1722092400-1722106800@soky.org
SUMMARY:2024 Lexington Regional Golf Tournament
DESCRIPTION:Athletes will compete in an effort to qualify for the State Golf Tournament.
URL:https://soky.org/event/2024lexingtongolf/
LOCATION:Lakeside Golf Course\, 3725 Richmond Rd\,\, Lexington\, KY\, 40509\, United States
CATEGORIES:Competition
ATTACH;FMTTYPE=image/jpeg:https://soky.org/wp-content/uploads/2022/04/22_GolfEvents.jpg
ORGANIZER;CN="Kathy Marshall":MAILTO:kmarshall@soky.org
END:VEVENT
BEGIN:VEVENT
DTSTART;TZID=America/New_York:20240803T080000
DTEND;TZID=America/New_York:20240803T170000
DTSTAMP:20260422T194801
CREATED:20230910T184514Z
LAST-MODIFIED:20240401T183612Z
UID:15350-1722672000-1722704400@soky.org
SUMMARY:2024 Region 1 Softball Tournament
DESCRIPTION:Teams from across Western Kentucky battle to advance to the State Softball Tournament. \n(Rain Date: August 4)
URL:https://soky.org/event/24_reg1softball/
LOCATION:Lone Oak Park\, 650 Denver Ave.\, Paducah\, KY\, KY\, 42001\, United States
CATEGORIES:Competition
ATTACH;FMTTYPE=image/jpeg:https://soky.org/wp-content/uploads/2023/09/24_reg1softball_event.jpg
ORGANIZER;CN="Chris Oldham":MAILTO:coldham@soky.org
END:VEVENT
BEGIN:VEVENT
DTSTART;TZID=America/New_York:20240809T173000
DTEND;TZID=America/New_York:20240810T173000
DTSTAMP:20260422T194801
CREATED:20230911T193726Z
LAST-MODIFIED:20240710T201840Z
UID:15357-1723224600-1723311000@soky.org
SUMMARY:2024 Region 2 Softball Tournament
DESCRIPTION:Teams from the eastern half of the state compete for the opportunity to advance to the State Softball Tournament. \n(Rain Date: August 16-17)
URL:https://soky.org/event/24_reg2softball/
LOCATION:Marshall Park\, 101 Airport Rd.\, Georgetown\, KY\, 40324\, United States
CATEGORIES:Competition
ATTACH;FMTTYPE=image/jpeg:https://soky.org/wp-content/uploads/2024/04/24_reg2softball.jpg
ORGANIZER;CN="Chris Oldham":MAILTO:coldham@soky.org
END:VEVENT
BEGIN:VEVENT
DTSTART;TZID=America/New_York:20240809T173000
DTEND;TZID=America/New_York:20240810T173000
DTSTAMP:20260422T194801
CREATED:20230912T195857Z
LAST-MODIFIED:20240710T201932Z
UID:15360-1723224600-1723311000@soky.org
SUMMARY:2024 Region 3 Softball Tournament
DESCRIPTION:Teams from Louisville and the surrounding areas compete for the opportunity to advance to the State Softball Tournament. \n(Rain Date: Aug. 16-17)
URL:https://soky.org/event/24_reg3softball/
LOCATION:Lyndon Recreation Center\, 9310 Whipps Mill Rd\, Louuisville\, KY\, 40242\, United States
CATEGORIES:Competition
ATTACH;FMTTYPE=image/jpeg:https://soky.org/wp-content/uploads/2023/09/24_reg3softball_event.jpg
ORGANIZER;CN="Chris Oldham":MAILTO:coldham@soky.org
END:VEVENT
BEGIN:VEVENT
DTSTART;TZID=America/New_York:20240824T120000
DTEND;TZID=America/New_York:20240824T160000
DTSTAMP:20260422T194801
CREATED:20230920T170705Z
LAST-MODIFIED:20240223T181155Z
UID:14646-1724500800-1724515200@soky.org
SUMMARY:2024 State Golf Tournament
DESCRIPTION:Golfers vie for top honors at the Quail Chase Golf Course. Athletes will compete in Skills events\, Unified Alternate Shot competition or Individual Stroke Play competition.
URL:https://soky.org/event/24stategolf/
LOCATION:Quail Chase Golf Course\, 7000 Cooper Chapel Rd\,\, Louisville\, KY\, 40229\, United States
CATEGORIES:Competition
ATTACH;FMTTYPE=image/jpeg:https://soky.org/wp-content/uploads/2022/04/22_GolfEvents.jpg
ORGANIZER;CN="Kathy Marshall":MAILTO:kmarshall@soky.org
END:VEVENT
BEGIN:VEVENT
DTSTART;TZID=America/New_York:20240906T173000
DTEND;TZID=America/New_York:20240908T150000
DTSTAMP:20260422T194801
CREATED:20230930T171329Z
LAST-MODIFIED:20240904T152417Z
UID:14649-1725643800-1725807600@soky.org
SUMMARY:2024 State Softball Tournament
DESCRIPTION:Teams from across the state will meet when the State Softball Tournament returns to Owensboro’s Jack C. Fischer Park for the first time in 17 years. Teams that haven’t qualified for the State Tournament bracket can attend State Softball weekend and take part in the Team Skills Competition. \n2024 State Tournament Brackets
URL:https://soky.org/event/2024-state-softball-tournament/
LOCATION:Jack C. Fisher Park\, 3900 W 5th Street Rd\, Owensboro\, KY\, 42301\, United States
CATEGORIES:Competition
ATTACH;FMTTYPE=image/jpeg:https://soky.org/wp-content/uploads/2023/09/24_statesoftball_event.jpg
ORGANIZER;CN="Holly Vincent":MAILTO:hvincent@soky.org
END:VEVENT
BEGIN:VEVENT
DTSTART;TZID=America/New_York:20240911T080000
DTEND;TZID=America/New_York:20240911T170000
DTSTAMP:20260422T194801
CREATED:20240911T193142Z
LAST-MODIFIED:20240911T193142Z
UID:17761-1726041600-1726074000@soky.org
SUMMARY:2025 State Basketball Tournament & Team Skills Competition
DESCRIPTION:Teams from across the state return to Louisville to create some March Magic at the 2025 State Basketball Tournament and Team Skills Competition. \nTeams that qualified will compete in the State Tournament while teams that did not qualify have the option to take part in the Team Skills Competition. \nThe weekend also provides an opportunity for athletes to receive select Healthy Athletes screenings and a dance rounds out the weekend’s festivities. \nSee photos from the 2024 State Basketball Tournament.
URL:https://soky.org/event/2025_statebasketball/
LOCATION:Mid-America Sports Center\, 1906 Watterson Trail\, Louisville\, KY\, 40299\, United States
CATEGORIES:Competition
ATTACH;FMTTYPE=image/jpeg:https://soky.org/wp-content/uploads/2024/09/25_statebasketball_event.jpg
ORGANIZER;CN="Holly Vincent":MAILTO:hvincent@soky.org
END:VEVENT
BEGIN:VEVENT
DTSTART;TZID=America/New_York:20240928T080000
DTEND;TZID=America/New_York:20240928T150000
DTSTAMP:20260422T194801
CREATED:20240104T202054Z
LAST-MODIFIED:20240104T202054Z
UID:13997-1727510400-1727535600@soky.org
SUMMARY:2024 State Equestrian Competition
DESCRIPTION:Riders from therapeutic riding programs across the state show off their skills in equitation\, dressage and working trails at one of our most unique events.
URL:https://soky.org/event/24stateequestrian/
LOCATION:Shelby County Fairgrounds\, 1513 Midland Trail\, Shelbyville\, KY\, 40065\, United States
CATEGORIES:Competition
ATTACH;FMTTYPE=image/jpeg:https://soky.org/wp-content/uploads/2024/01/24_StateEquestrian_Event.jpg
ORGANIZER;CN="Kathy Marshall":MAILTO:kmarshall@soky.org
END:VEVENT
BEGIN:VEVENT
DTSTART;TZID=America/New_York:20241006T080000
DTEND;TZID=America/New_York:20241006T130000
DTSTAMP:20260422T194801
CREATED:20240222T165813Z
LAST-MODIFIED:20240813T181620Z
UID:17492-1728201600-1728219600@soky.org
SUMMARY:2024 Region 1&3 Flag Football Tournament
DESCRIPTION:Teams from the western half of the state compete to see who will advance to the State Flag Football Tournament.
URL:https://soky.org/event/2024_reg1-3fb/
LOCATION:St. Xavier High School\, 1609 Poplar Level Rd\, Louisville\, 40217\, United States
CATEGORIES:Competition
ATTACH;FMTTYPE=image/jpeg:https://soky.org/wp-content/uploads/2024/08/24_reg1-3fb_event.jpg
ORGANIZER;CN="Holly Vincent":MAILTO:hvincent@soky.org
END:VEVENT
BEGIN:VEVENT
DTSTART;TZID=America/New_York:20241012T080000
DTEND;TZID=America/New_York:20241013T160000
DTSTAMP:20260422T194801
CREATED:20240222T170035Z
LAST-MODIFIED:20240701T182909Z
UID:16422-1728720000-1728835200@soky.org
SUMMARY:2024 Area 4 Bowling Tournament
DESCRIPTION:Athletes from the Greater Louisville area compete for the opportunity to advance to the State Bowling Tournament.
URL:https://soky.org/event/24_area4bowling/
LOCATION:Kingpin Lanes\, 9525 Taylorsville Rd\, Jeffersontown\, KY\, 40299\, United States
CATEGORIES:Competition
ATTACH;FMTTYPE=image/jpeg:https://soky.org/wp-content/uploads/2021/09/21_bowling_events.jpg
ORGANIZER;CN="Kathy Marshall":MAILTO:kmarshall@soky.org
END:VEVENT
BEGIN:VEVENT
DTSTART;TZID=America/New_York:20241013T090000
DTEND;TZID=America/New_York:20241013T150000
DTSTAMP:20260422T194801
CREATED:20240222T180347Z
LAST-MODIFIED:20240813T190956Z
UID:17495-1728810000-1728831600@soky.org
SUMMARY:2024 Region 2 Flag Football Tournament
DESCRIPTION:Teams from the eastern half of the state will compete to see who advances to the State Flag Football Tournament.
URL:https://soky.org/event/2024_reg2fb/
LOCATION:Thomas More University\, 333 Thomas More Pkwy.\, Crestview Hills\, KY\, 41017\, United States
CATEGORIES:Competition
ATTACH;FMTTYPE=image/jpeg:https://soky.org/wp-content/uploads/2024/02/24_reg2fb_event.jpg
ORGANIZER;CN="Holly Vincent":MAILTO:hvincent@soky.org
END:VEVENT
BEGIN:VEVENT
DTSTART;TZID=America/New_York:20241019T080000
DTEND;TZID=America/New_York:20241020T163000
DTSTAMP:20260422T194801
CREATED:20240222T180022Z
LAST-MODIFIED:20240701T183333Z
UID:16424-1729324800-1729441800@soky.org
SUMMARY:2024 Area 1 Bowling Tournament
DESCRIPTION:Athletes from far Western Kentucky compete to advance to the State Bowling Tournament.
URL:https://soky.org/event/24_area1bowling/
LOCATION:Cardinal Lanes\, 816 Joe Clifton Dr\, Paducah\, KY\, 42001\, United States
CATEGORIES:Competition
ATTACH;FMTTYPE=image/jpeg:https://soky.org/wp-content/uploads/2023/08/23_area1bowling_event.jpg
ORGANIZER;CN="Kathy Marshall":MAILTO:kmarshall@soky.org
END:VEVENT
BEGIN:VEVENT
DTSTART;TZID=America/New_York:20241019T090000
DTEND;TZID=America/New_York:20241019T130000
DTSTAMP:20260422T194801
CREATED:20240222T180508Z
LAST-MODIFIED:20240812T182104Z
UID:17473-1729328400-1729342800@soky.org
SUMMARY:2024 Area 3&9 Bowling Tournament
DESCRIPTION:Athletes from throughout Eastern Kentucky will compete to advance to the State Bowling Tournament.
URL:https://soky.org/event/2024_3-9bowling/
LOCATION:Bowl Rite\, 94 Mayo Hollow\, Prestonsburg\, KY\, 41653\, United States
CATEGORIES:Competition
ATTACH;FMTTYPE=image/jpeg:https://soky.org/wp-content/uploads/2023/08/23_areabowling_event.jpg
ORGANIZER;CN="Kathy Marshall":MAILTO:kmarshall@soky.org
END:VEVENT
BEGIN:VEVENT
DTSTART;TZID=America/New_York:20241019T100000
DTEND;TZID=America/New_York:20241019T150000
DTSTAMP:20260422T194801
CREATED:20240222T181054Z
LAST-MODIFIED:20240812T182816Z
UID:17475-1729332000-1729350000@soky.org
SUMMARY:2024 Area 6 Bowling Tournament
DESCRIPTION:Athletes from Southeastern Kentucky compete for the opportunity to advance to the State Bowling Tournament.
URL:https://soky.org/event/2024_a6bowling/
LOCATION:Galaxy Bowl\, 1025 Amberly Way\, Richmond\, 40475\, United States
CATEGORIES:Competition
ATTACH;FMTTYPE=image/jpeg:https://soky.org/wp-content/uploads/2024/08/24_area6bowling_event.jpg
ORGANIZER;CN="Kathy Marshall":MAILTO:kmarshall@soky.org
END:VEVENT
BEGIN:VEVENT
DTSTART;TZID=America/New_York:20241025T120000
DTEND;TZID=America/New_York:20241027T160000
DTSTAMP:20260422T194801
CREATED:20240222T184540Z
LAST-MODIFIED:20240812T190101Z
UID:17478-1729857600-1730044800@soky.org
SUMMARY:2024 Area 8 Bowling Tournament
DESCRIPTION:Athletes from around Central Kentucky will compete to qualify for the State Bowling Tournament. \nFriday\, Oct. 25\nNoon – Singles Event \nSunday\, Oct. 27\n1 pm – Unified/Ramp Events
URL:https://soky.org/event/2024_a8bowling/
LOCATION:Southland Lanes\, 205 Southland Dr.\, Lexington\, KY\, 40503\, United States
CATEGORIES:Competition
ATTACH;FMTTYPE=image/jpeg:https://soky.org/wp-content/uploads/2021/09/21_bowling_events.jpg
ORGANIZER;CN="Kathy Marshall":MAILTO:kmarshall@soky.org
END:VEVENT
BEGIN:VEVENT
DTSTART;TZID=America/New_York:20241026T080000
DTEND;TZID=America/New_York:20241026T150000
DTSTAMP:20260422T194801
CREATED:20240222T191045Z
LAST-MODIFIED:20240701T184256Z
UID:16429-1729929600-1729954800@soky.org
SUMMARY:2024 Area 5 Bowling Tournament
DESCRIPTION:Athletes from the area around Bowling Green\, from Christian County to Wayne County compete to advance to the State Bowling Tournament.
URL:https://soky.org/event/24_area5bowling/
LOCATION:Southern Lanes\, 2710 Scottsville Rd\, Bowling Green\, KY\, 42104\, United States
CATEGORIES:Competition
ATTACH;FMTTYPE=image/jpeg:https://soky.org/wp-content/uploads/2023/08/23_statebowling_event.jpg
ORGANIZER;CN="Kathy Marshall":MAILTO:kmarshall@soky.org
END:VEVENT
BEGIN:VEVENT
DTSTART;TZID=America/New_York:20241026T100000
DTEND;TZID=America/New_York:20241026T150000
DTSTAMP:20260422T194801
CREATED:20240222T192013Z
LAST-MODIFIED:20240812T190605Z
UID:17480-1729936800-1729954800@soky.org
SUMMARY:2024 Area 7 Bowling Tournament
DESCRIPTION:Athletes from throughout Northern Kentucky will compete to advance to the State Bowling Tournament.
URL:https://soky.org/event/2024_a7abowling/
LOCATION:Walt’s Center Lanes\, 1809 Monmouth St\, Newport\, KY\, 41071\, United States
CATEGORIES:Competition
ATTACH;FMTTYPE=image/jpeg:https://soky.org/wp-content/uploads/2023/08/23_statebowling_event.jpg
ORGANIZER;CN="Kathy Marshall":MAILTO:kmarshall@soky.org
END:VEVENT
BEGIN:VEVENT
DTSTART;TZID=America/New_York:20241026T130000
DTEND;TZID=America/New_York:20241026T170000
DTSTAMP:20260422T194801
CREATED:20240222T192031Z
LAST-MODIFIED:20240701T184325Z
UID:16427-1729947600-1729962000@soky.org
SUMMARY:2024 Area 2 Bowling Tournament
DESCRIPTION:Athletes from the area surrounding Owensboro and Henderson compete for the opportunity to advance to the State Bowling Tournament.
URL:https://soky.org/event/2024_area2bowling/
LOCATION:Diamond Lanes South\, 410 Carlton Dr\, Owensboro\, KY\, 42303\, United States
CATEGORIES:Competition
ATTACH;FMTTYPE=image/jpeg:https://soky.org/wp-content/uploads/2022/07/22_bowling_wky_events.jpg
ORGANIZER;CN="Kathy Marshall":MAILTO:kmarshall@soky.org
END:VEVENT
BEGIN:VEVENT
DTSTART;TZID=America/New_York:20241103T090000
DTEND;TZID=America/New_York:20241103T150000
DTSTAMP:20260422T194801
CREATED:20240222T190006Z
LAST-MODIFIED:20240917T154255Z
UID:17641-1730624400-1730646000@soky.org
SUMMARY:2024 State Flag Football Tournament
DESCRIPTION:Flag Football teams from across the state will Go for the Gold on the gridiron at a brand new venue.
URL:https://soky.org/event/2024_stateflagfootball/
LOCATION:George Rogers Clark High School\, 2745 Boonesboro Rd\, Winchester\, KY\, 40391\, United States
CATEGORIES:Competition
ATTACH;FMTTYPE=image/jpeg:https://soky.org/wp-content/uploads/2024/08/24_statefootball_event.jpg
ORGANIZER;CN="Holly Vincent":MAILTO:hvincent@soky.org
END:VEVENT
BEGIN:VEVENT
DTSTART;TZID=America/New_York:20241207T080000
DTEND;TZID=America/New_York:20241208T150000
DTSTAMP:20260422T194801
CREATED:20240228T171652Z
LAST-MODIFIED:20240228T171652Z
UID:14781-1733558400-1733670000@soky.org
SUMMARY:2024 State Bowling Tournament
DESCRIPTION:Athletes from across the state will hit the lanes in Louisville to go for the gold in Special Olympics Kentucky’s most popular sport. Sessions will one again be held at Kingpin Lanes and Ten Pin Strike & Spare. \nOn Saturday all athletes who qualify will compete in the Singles Event. On Sunday\, we’ll hold the Doubles and Unified Doubles events.
URL:https://soky.org/event/24_statebowling/
LOCATION:KY
CATEGORIES:Competition
ATTACH;FMTTYPE=image/jpeg:https://soky.org/wp-content/uploads/2023/08/23_statebowling_event.jpg
ORGANIZER;CN="Kathy Marshall":MAILTO:kmarshall@soky.org
END:VEVENT
BEGIN:VEVENT
DTSTART;TZID=America/New_York:20250126T140000
DTEND;TZID=America/New_York:20250128T140000
DTSTAMP:20260422T194801
CREATED:20240911T182551Z
LAST-MODIFIED:20240911T182551Z
UID:17741-1737900000-1738072800@soky.org
SUMMARY:2025 State Winter Games
DESCRIPTION:Athletes from around the state gather for the year’s first championship! \nWe will hit the snow at Perfect North Slopes in Lawrenceburg\, Ind.\, to compete in alpine skiing and snowshoeing. \nDinner and a dance on Monday night round out the festivities.
URL:https://soky.org/event/2025_wintergames/
LOCATION:Perfect North Slopes\, 19074 Perfect Place Ln\, Lawrenceburg\, IN\, 47025\, United States
CATEGORIES:Competition
ATTACH;FMTTYPE=image/jpeg:https://soky.org/wp-content/uploads/2024/09/25_wintergames_event.jpg
ORGANIZER;CN="Kim Satterwhite":MAILTO:ksatterwhite@soky.org
END:VEVENT
END:VCALENDAR