BEGIN:VCALENDAR
VERSION:2.0
PRODID:-//Special Olympics Kentucky - ECPv6.15.20//NONSGML v1.0//EN
CALSCALE:GREGORIAN
METHOD:PUBLISH
X-ORIGINAL-URL:https://soky.org
X-WR-CALDESC:Events for Special Olympics Kentucky
REFRESH-INTERVAL;VALUE=DURATION:PT1H
X-Robots-Tag:noindex
X-PUBLISHED-TTL:PT1H
BEGIN:VTIMEZONE
TZID:America/New_York
BEGIN:DAYLIGHT
TZOFFSETFROM:-0500
TZOFFSETTO:-0400
TZNAME:EDT
DTSTART:20250309T070000
END:DAYLIGHT
BEGIN:STANDARD
TZOFFSETFROM:-0400
TZOFFSETTO:-0500
TZNAME:EST
DTSTART:20251102T060000
END:STANDARD
BEGIN:DAYLIGHT
TZOFFSETFROM:-0500
TZOFFSETTO:-0400
TZNAME:EDT
DTSTART:20260308T070000
END:DAYLIGHT
BEGIN:STANDARD
TZOFFSETFROM:-0400
TZOFFSETTO:-0500
TZNAME:EST
DTSTART:20261101T060000
END:STANDARD
BEGIN:DAYLIGHT
TZOFFSETFROM:-0500
TZOFFSETTO:-0400
TZNAME:EDT
DTSTART:20270314T070000
END:DAYLIGHT
BEGIN:STANDARD
TZOFFSETFROM:-0400
TZOFFSETTO:-0500
TZNAME:EST
DTSTART:20271107T060000
END:STANDARD
END:VTIMEZONE
BEGIN:VEVENT
DTSTART;TZID=America/New_York:20260207T090000
DTEND;TZID=America/New_York:20260207T130000
DTSTAMP:20260419T155951
CREATED:20251101T060649Z
LAST-MODIFIED:20251106T182659Z
UID:39073-1770454800-1770469200@soky.org
SUMMARY:2026 Lexington Polar Plunge
DESCRIPTION:Gather your team and get Freezin for a Reason. Hundreds of people – many in crazy costumes – will raise money and hit the water of a pool set up in the Texas Roadhouse parking lot to support Special Olympics Kentucky athletes.
URL:https://soky.org/event/26_lexingtonplunge/
LOCATION:Texas Roadhouse – Beaumont Centre\, 3030 Lakecrest Cir.\, Lexington\, KY\, 40513\, United States
CATEGORIES:Fundraiser
ATTACH;FMTTYPE=image/jpeg:https://soky.org/wp-content/uploads/2025/11/26_lexingtonplunge_event.jpg
ORGANIZER;CN="Mallory Jent":MAILTO:mjent@soky.org
END:VEVENT
BEGIN:VEVENT
DTSTART;TZID=America/New_York:20260221T090000
DTEND;TZID=America/New_York:20260221T140000
DTSTAMP:20260419T155951
CREATED:20251101T062104Z
LAST-MODIFIED:20251106T195713Z
UID:39099-1771664400-1771682400@soky.org
SUMMARY:2026 Louisville Polar Plunge
DESCRIPTION:Gather your team and get Freezin for a Reason. Hundreds of people – many in crazy costumes – will raise money and hit the water of a pool set up in the Main Event parking lot to support Special Olympics Kentucky athletes.
URL:https://soky.org/event/26_louplunge_event/
LOCATION:Main Event\, 12500 Sycamore Station Pl\, Louisville\, 40299\, United States
CATEGORIES:Fundraiser
ATTACH;FMTTYPE=image/jpeg:https://soky.org/wp-content/uploads/2025/11/26_louplunge_event.jpg
ORGANIZER;CN="Mallory Jent":MAILTO:mjent@soky.org
END:VEVENT
END:VCALENDAR