BEGIN:VCALENDAR
VERSION:2.0
PRODID:-//Special Olympics Kentucky - ECPv6.15.20//NONSGML v1.0//EN
CALSCALE:GREGORIAN
METHOD:PUBLISH
X-ORIGINAL-URL:https://soky.org
X-WR-CALDESC:Events for Special Olympics Kentucky
REFRESH-INTERVAL;VALUE=DURATION:PT1H
X-Robots-Tag:noindex
X-PUBLISHED-TTL:PT1H
BEGIN:VTIMEZONE
TZID:America/New_York
BEGIN:DAYLIGHT
TZOFFSETFROM:-0500
TZOFFSETTO:-0400
TZNAME:EDT
DTSTART:20250309T070000
END:DAYLIGHT
BEGIN:STANDARD
TZOFFSETFROM:-0400
TZOFFSETTO:-0500
TZNAME:EST
DTSTART:20251102T060000
END:STANDARD
BEGIN:DAYLIGHT
TZOFFSETFROM:-0500
TZOFFSETTO:-0400
TZNAME:EDT
DTSTART:20260308T070000
END:DAYLIGHT
BEGIN:STANDARD
TZOFFSETFROM:-0400
TZOFFSETTO:-0500
TZNAME:EST
DTSTART:20261101T060000
END:STANDARD
BEGIN:DAYLIGHT
TZOFFSETFROM:-0500
TZOFFSETTO:-0400
TZNAME:EDT
DTSTART:20270314T070000
END:DAYLIGHT
BEGIN:STANDARD
TZOFFSETFROM:-0400
TZOFFSETTO:-0500
TZNAME:EST
DTSTART:20271107T060000
END:STANDARD
END:VTIMEZONE
BEGIN:VEVENT
DTSTART;TZID=America/New_York:20260301T000100
DTEND;TZID=America/New_York:20260331T220000
DTSTAMP:20260419T160401
CREATED:20251101T070128Z
LAST-MODIFIED:20260308T232010Z
UID:52320-1772323260-1774994400@soky.org
SUMMARY:2026 Jersey Mike's Month of Giving
DESCRIPTION:Jersey Mike’s Sub Shops across the state raise money for Special Olympics Kentucky and the 2026 Special Olympics USA Games. \nInformation and Locations
URL:https://soky.org/event/26_monthofgiving/
LOCATION:Statewide\, KY\, United States
CATEGORIES:Fundraiser
ATTACH;FMTTYPE=image/jpeg:https://soky.org/wp-content/uploads/2026/03/26_monthofgiving_events.jpg
ORGANIZER;CN="Jennifer McMahon":MAILTO:jmcmahon@soky.org
END:VEVENT
END:VCALENDAR