BEGIN:VCALENDAR
VERSION:2.0
PRODID:-//Special Olympics Kentucky - ECPv6.15.20//NONSGML v1.0//EN
CALSCALE:GREGORIAN
METHOD:PUBLISH
X-ORIGINAL-URL:https://soky.org
X-WR-CALDESC:Events for Special Olympics Kentucky
REFRESH-INTERVAL;VALUE=DURATION:PT1H
X-Robots-Tag:noindex
X-PUBLISHED-TTL:PT1H
BEGIN:VTIMEZONE
TZID:America/New_York
BEGIN:DAYLIGHT
TZOFFSETFROM:-0500
TZOFFSETTO:-0400
TZNAME:EDT
DTSTART:20250309T070000
END:DAYLIGHT
BEGIN:STANDARD
TZOFFSETFROM:-0400
TZOFFSETTO:-0500
TZNAME:EST
DTSTART:20251102T060000
END:STANDARD
BEGIN:DAYLIGHT
TZOFFSETFROM:-0500
TZOFFSETTO:-0400
TZNAME:EDT
DTSTART:20260308T070000
END:DAYLIGHT
BEGIN:STANDARD
TZOFFSETFROM:-0400
TZOFFSETTO:-0500
TZNAME:EST
DTSTART:20261101T060000
END:STANDARD
BEGIN:DAYLIGHT
TZOFFSETFROM:-0500
TZOFFSETTO:-0400
TZNAME:EDT
DTSTART:20270314T070000
END:DAYLIGHT
BEGIN:STANDARD
TZOFFSETFROM:-0400
TZOFFSETTO:-0500
TZNAME:EST
DTSTART:20271107T060000
END:STANDARD
END:VTIMEZONE
BEGIN:VEVENT
DTSTART;TZID=America/New_York:20260627T100000
DTEND;TZID=America/New_York:20260627T130000
DTSTAMP:20260421T012951
CREATED:20251101T102029Z
LAST-MODIFIED:20260421T011817Z
UID:53349-1782554400-1782565200@soky.org
SUMMARY:2026 LETR Charity Motorcycle Ride
DESCRIPTION:Head out on the highway and raise money to support Special Olympics Kentucky athletes while you enjoy a great day on the open road at the inaugural Law Enforcement Torch Run charity motorcycle ride. \nRegistration will open at Bluegrass Harley Davidson at 10 and riders will cruise on to Kentucky State University in Frankfort. \nRiders are $25 and passengers are $15. You can pay on Venmo.
URL:https://soky.org/event/26_letrcharityride/
LOCATION:Bluegrass Harley-Davidson\, 2755 Terra Crossing Blvd\, Louisville\, KY\, 40245\, United States
CATEGORIES:Fundraiser
ATTACH;FMTTYPE=image/jpeg:https://soky.org/wp-content/uploads/2026/04/26_letrride.jpg
ORGANIZER;CN="Trevor Ford":MAILTO:tford.letrky@outlook.com
END:VEVENT
END:VCALENDAR