BEGIN:VCALENDAR
VERSION:2.0
PRODID:-//Special Olympics Kentucky - ECPv6.15.20//NONSGML v1.0//EN
CALSCALE:GREGORIAN
METHOD:PUBLISH
X-ORIGINAL-URL:https://soky.org
X-WR-CALDESC:Events for Special Olympics Kentucky
REFRESH-INTERVAL;VALUE=DURATION:PT1H
X-Robots-Tag:noindex
X-PUBLISHED-TTL:PT1H
BEGIN:VTIMEZONE
TZID:America/New_York
BEGIN:DAYLIGHT
TZOFFSETFROM:-0500
TZOFFSETTO:-0400
TZNAME:EDT
DTSTART:20250309T070000
END:DAYLIGHT
BEGIN:STANDARD
TZOFFSETFROM:-0400
TZOFFSETTO:-0500
TZNAME:EST
DTSTART:20251102T060000
END:STANDARD
BEGIN:DAYLIGHT
TZOFFSETFROM:-0500
TZOFFSETTO:-0400
TZNAME:EDT
DTSTART:20260308T070000
END:DAYLIGHT
BEGIN:STANDARD
TZOFFSETFROM:-0400
TZOFFSETTO:-0500
TZNAME:EST
DTSTART:20261101T060000
END:STANDARD
BEGIN:DAYLIGHT
TZOFFSETFROM:-0500
TZOFFSETTO:-0400
TZNAME:EDT
DTSTART:20270314T070000
END:DAYLIGHT
BEGIN:STANDARD
TZOFFSETFROM:-0400
TZOFFSETTO:-0500
TZNAME:EST
DTSTART:20271107T060000
END:STANDARD
END:VTIMEZONE
BEGIN:VEVENT
DTSTART;TZID=America/New_York:20260417T110000
DTEND;TZID=America/New_York:20260417T140000
DTSTAMP:20260419T175409
CREATED:20251101T081708Z
LAST-MODIFIED:20260401T001836Z
UID:53094-1776423600-1776434400@soky.org
SUMMARY:2026 Cover the Cruiser - Owensboro
DESCRIPTION:Help Kentucky State Police Post 16 Cover the Cruiser for Special Olympics! Visit Audubon Federal Credit Union from 10 am-2 pm\, make a donation and put your name on an icon that will go on the KSP cruiser.
URL:https://soky.org/event/26ctc_owensboro/
LOCATION:Audubon Federal Credit Union\, 1429 Breckenridge St.\, Owensboro\, KY\, 42303\, United States
CATEGORIES:Fundraiser
ATTACH;FMTTYPE=image/jpeg:https://soky.org/wp-content/uploads/2025/04/25_ctc_owensboro_event.jpg
ORGANIZER;CN="Jennifer McMahon":MAILTO:jmcmahon@soky.org
END:VEVENT
BEGIN:VEVENT
DTSTART;TZID=America/New_York:20260417T120000
DTEND;TZID=America/New_York:20260417T150000
DTSTAMP:20260419T175409
CREATED:20251101T081708Z
LAST-MODIFIED:20260401T000714Z
UID:53086-1776427200-1776438000@soky.org
SUMMARY:2026 Cover the Cruiser - Williamstown
DESCRIPTION:Help Kentucky State Police Post 6 Cover the Cruiser for Special Olympics! Visit Ark Encounters in Williamstown from noon-3 pm\, make a donation and put your name on an icon that will go on the KSP cruiser.
URL:https://soky.org/event/26ctc_williamstown/
LOCATION:Ark Encounter\, 1 Ark Encounter Dr.\, Williamstown\, 41097\, United States
CATEGORIES:Fundraiser
ATTACH;FMTTYPE=image/png:https://soky.org/wp-content/uploads/2024/04/24_CTC_Williamstown_Event.png
ORGANIZER;CN="Jennifer McMahon":MAILTO:jmcmahon@soky.org
END:VEVENT
BEGIN:VEVENT
DTSTART;TZID=America/New_York:20260523T090000
DTEND;TZID=America/New_York:20260523T110000
DTSTAMP:20260419T175409
CREATED:20251101T092354Z
LAST-MODIFIED:20260403T150638Z
UID:53256-1779526800-1779534000@soky.org
SUMMARY:2026 Law Enforcement Torch Run 5k
DESCRIPTION:Run with law enforcement and the Special Olympics flame to help support Special Olympics Kentucky athletes. \nRegister
URL:https://soky.org/event/26_letr5k/
LOCATION:Big Four Lawn\, 1101 River Rd.\, Louisville\, KY\, 40202\, United States
CATEGORIES:Fundraiser
ATTACH;FMTTYPE=image/jpeg:https://soky.org/wp-content/uploads/2026/11/26_letr5k_event.jpg
ORGANIZER;CN="Trevor Ford":MAILTO:tford.letrky@outlook.com
END:VEVENT
END:VCALENDAR